BEGIN:VCALENDAR
VERSION:2.0
PRODID:-//&quot;LE ALI DELLA VITA&quot; DI LUCREZIA DI FRANCESCO - ECPv6.15.18//NONSGML v1.0//EN
CALSCALE:GREGORIAN
METHOD:PUBLISH
X-ORIGINAL-URL:https://lucreziadifrancesco.com
X-WR-CALDESC:Eventi per &quot;LE ALI DELLA VITA&quot; DI LUCREZIA DI FRANCESCO
REFRESH-INTERVAL;VALUE=DURATION:PT1H
X-Robots-Tag:noindex
X-PUBLISHED-TTL:PT1H
BEGIN:VTIMEZONE
TZID:Europe/Rome
BEGIN:DAYLIGHT
TZOFFSETFROM:+0100
TZOFFSETTO:+0200
TZNAME:CEST
DTSTART:20220327T010000
END:DAYLIGHT
BEGIN:STANDARD
TZOFFSETFROM:+0200
TZOFFSETTO:+0100
TZNAME:CET
DTSTART:20221030T010000
END:STANDARD
BEGIN:DAYLIGHT
TZOFFSETFROM:+0100
TZOFFSETTO:+0200
TZNAME:CEST
DTSTART:20230326T010000
END:DAYLIGHT
BEGIN:STANDARD
TZOFFSETFROM:+0200
TZOFFSETTO:+0100
TZNAME:CET
DTSTART:20231029T010000
END:STANDARD
BEGIN:DAYLIGHT
TZOFFSETFROM:+0100
TZOFFSETTO:+0200
TZNAME:CEST
DTSTART:20240331T010000
END:DAYLIGHT
BEGIN:STANDARD
TZOFFSETFROM:+0200
TZOFFSETTO:+0100
TZNAME:CET
DTSTART:20241027T010000
END:STANDARD
END:VTIMEZONE
BEGIN:VEVENT
DTSTART;TZID=Europe/Rome:20230715T173000
DTEND;TZID=Europe/Rome:20230715T183000
DTSTAMP:20260424T155557
CREATED:20230725T091435Z
LAST-MODIFIED:20230725T091452Z
UID:7054-1689442200-1689445800@lucreziadifrancesco.com
SUMMARY:I 7 Colori dell’Anima
DESCRIPTION:il profumo degli oli essenziali e la musica delle campane tibetane.\nDA PORTARE PER POTER SVOLGERE IL LABORATORIO:\n– Tappetino yoga e telo mare ;\n-Cuscino;\n-Spray per le Zanzare;\nCONSIGLI\n-Abbigliamento comodo;\n– Gioia e l’entusiasmo di partecipare.\nPER CHI E’ ADATTO?\nPer tutte le persone adulte che vogliono cimentarsi in una nuova esperienza.\nNon è richiesto nessuna preparazione in ambito artistico. \nPer Info e prenotazioni:\nLucrezia 3276912708\nFrancesca 3286132519\nLeyla 3477931401
URL:https://lucreziadifrancesco.com/event/i-7-colori-dellanima/
LOCATION:Via Fonte del Fico\, via fonte del fico 7\, silvi\, Italia
CATEGORIES:Eventi Le Ali della Vita
ATTACH;FMTTYPE=image/jpeg:https://lucreziadifrancesco.com/wp-content/uploads/2023/07/colori_anima.jpg
END:VEVENT
BEGIN:VEVENT
DTSTART;TZID=Europe/Rome:20230725T190000
DTEND;TZID=Europe/Rome:20230725T230000
DTSTAMP:20260424T155557
CREATED:20230725T085308Z
LAST-MODIFIED:20230725T085359Z
UID:7040-1690311600-1690326000@lucreziadifrancesco.com
SUMMARY:Memorie di Genny Di Loreto
DESCRIPTION:Memorie di Genny Di Loreto\nSabato 22 luglio presenterò insieme a Annamaria Acunzo \, Master Reiki e docente\, la prima mostra personale di Genny di Loreto chiamata “Memorie”\, presso l’ Agriturismo D. Fiore.\nMemorie:\n“Il mio albero (io) è in continuo divenire\, il sangue scorre\, le cellule viaggiano e dietro di esso ho collocato altri alberi (i miei avi)”.\nEstratto dalle “Memorie” di Genny Di Loreto.\nPer info 327 691 2708\nPer poter partecipare\, prenota presso l’Agriturismo
URL:https://lucreziadifrancesco.com/event/memorie-di-genny-di-loreto/
LOCATION:Agriturismo D. Fiore\, Contrada Piane Maglierici\, Silvi (TE)\, 64028\, Italia
CATEGORIES:Eventi Le Ali della Vita
ATTACH;FMTTYPE=image/jpeg:https://lucreziadifrancesco.com/wp-content/uploads/2023/07/Genny_Di_loreto.jpg
END:VEVENT
BEGIN:VEVENT
DTSTART;TZID=Europe/Rome:20230729T180000
DTEND;TZID=Europe/Rome:20230729T235900
DTSTAMP:20260424T155557
CREATED:20230725T093402Z
LAST-MODIFIED:20230725T093402Z
UID:7078-1690653600-1690675140@lucreziadifrancesco.com
SUMMARY:All’Arte e alla Vita
DESCRIPTION:
URL:https://lucreziadifrancesco.com/event/allarte-e-alla-vita/
LOCATION:Piazza dei Pini\, Piazza dei Pini\, silvi marina\, Italia
CATEGORIES:Eventi Le Ali della Vita
ATTACH;FMTTYPE=image/jpeg:https://lucreziadifrancesco.com/wp-content/uploads/2023/07/29luglio2023.jpg
END:VEVENT
END:VCALENDAR