BEGIN:VCALENDAR
VERSION:2.0
PRODID:-//&quot;LE ALI DELLA VITA&quot; DI LUCREZIA DI FRANCESCO - ECPv6.15.18//NONSGML v1.0//EN
CALSCALE:GREGORIAN
METHOD:PUBLISH
X-WR-CALNAME:&quot;LE ALI DELLA VITA&quot; DI LUCREZIA DI FRANCESCO
X-ORIGINAL-URL:https://lucreziadifrancesco.com
X-WR-CALDESC:Eventi per &quot;LE ALI DELLA VITA&quot; DI LUCREZIA DI FRANCESCO
REFRESH-INTERVAL;VALUE=DURATION:PT1H
X-Robots-Tag:noindex
X-PUBLISHED-TTL:PT1H
BEGIN:VTIMEZONE
TZID:Europe/Rome
BEGIN:DAYLIGHT
TZOFFSETFROM:+0100
TZOFFSETTO:+0200
TZNAME:CEST
DTSTART:20220327T010000
END:DAYLIGHT
BEGIN:STANDARD
TZOFFSETFROM:+0200
TZOFFSETTO:+0100
TZNAME:CET
DTSTART:20221030T010000
END:STANDARD
BEGIN:DAYLIGHT
TZOFFSETFROM:+0100
TZOFFSETTO:+0200
TZNAME:CEST
DTSTART:20230326T010000
END:DAYLIGHT
BEGIN:STANDARD
TZOFFSETFROM:+0200
TZOFFSETTO:+0100
TZNAME:CET
DTSTART:20231029T010000
END:STANDARD
BEGIN:DAYLIGHT
TZOFFSETFROM:+0100
TZOFFSETTO:+0200
TZNAME:CEST
DTSTART:20240331T010000
END:DAYLIGHT
BEGIN:STANDARD
TZOFFSETFROM:+0200
TZOFFSETTO:+0100
TZNAME:CET
DTSTART:20241027T010000
END:STANDARD
END:VTIMEZONE
BEGIN:VEVENT
DTSTART;TZID=Europe/Rome:20230811T190000
DTEND;TZID=Europe/Rome:20230812T230000
DTSTAMP:20260424T134631
CREATED:20230823T151908Z
LAST-MODIFIED:20230823T151950Z
UID:7129-1691780400-1691881200@lucreziadifrancesco.com
SUMMARY:Le Couleurs Du Monde
DESCRIPTION:“Ciò che desidero\, è che tutto sia circolare e che non ci sia\, per così dire\, né inizio né fine nella forma\, ma che essa dia\, invece\, l’idea di un insieme armonioso\, quello della vita.”\nVINCENT VAN GOGH
URL:https://lucreziadifrancesco.com/event/le-couleurs-du-monde/
LOCATION:Vicolo della Rotonda\, vicolo della rotonda\, silvi\, Italia
CATEGORIES:Eventi Le Ali della Vita
ATTACH;FMTTYPE=image/jpeg:https://lucreziadifrancesco.com/wp-content/uploads/2023/08/coleur.jpg
END:VEVENT
BEGIN:VEVENT
DTSTART;TZID=Europe/Rome:20230812T160000
DTEND;TZID=Europe/Rome:20230812T200000
DTSTAMP:20260424T134631
CREATED:20230823T152823Z
LAST-MODIFIED:20230823T152906Z
UID:7136-1691856000-1691870400@lucreziadifrancesco.com
SUMMARY:Erevna
DESCRIPTION:CORSO PER BAMBINI E RAGAZZI
URL:https://lucreziadifrancesco.com/event/erevna/
LOCATION:Laboratorio della Maestra Lucrezia Di Francesco\, Via Abruzzo 123\, Silvi\, Teramo\, 64029\, Italia
CATEGORIES:Eventi Le Ali della Vita
ATTACH;FMTTYPE=image/jpeg:https://lucreziadifrancesco.com/wp-content/uploads/2023/08/erevna.jpg
END:VEVENT
BEGIN:VEVENT
DTSTART;VALUE=DATE:20230813
DTEND;VALUE=DATE:20230815
DTSTAMP:20260424T134631
CREATED:20230823T153421Z
LAST-MODIFIED:20230828T154422Z
UID:7142-1691884800-1692057599@lucreziadifrancesco.com
SUMMARY:Erevna
DESCRIPTION:CORSO ADULTI
URL:https://lucreziadifrancesco.com/event/erevna-2/
LOCATION:Vicolo della Rotonda\, vicolo della rotonda\, silvi\, Italia
CATEGORIES:Eventi Le Ali della Vita
ATTACH;FMTTYPE=image/jpeg:https://lucreziadifrancesco.com/wp-content/uploads/2023/08/erevna.jpg
END:VEVENT
BEGIN:VEVENT
DTSTART;TZID=Europe/Rome:20230824T160000
DTEND;TZID=Europe/Rome:20230824T200000
DTSTAMP:20260424T134631
CREATED:20230725T092403Z
LAST-MODIFIED:20230822T154144Z
UID:7067-1692892800-1692907200@lucreziadifrancesco.com
SUMMARY:I Cicli della Madre Terra
DESCRIPTION:
URL:https://lucreziadifrancesco.com/event/i-cicli-della-madre-terra-2/
LOCATION:Lido 186\, via primo vere\, 51\, Pescara\, Italia
CATEGORIES:Eventi Le Ali della Vita
ATTACH;FMTTYPE=image/jpeg:https://lucreziadifrancesco.com/wp-content/uploads/2023/07/cicli-madre-terra.jpeg
END:VEVENT
BEGIN:VEVENT
DTSTART;TZID=Europe/Rome:20230824T173000
DTEND;TZID=Europe/Rome:20230824T183000
DTSTAMP:20260424T134631
CREATED:20230823T145035Z
LAST-MODIFIED:20230823T145035Z
UID:7120-1692898200-1692901800@lucreziadifrancesco.com
SUMMARY:Il Culto di Venere
DESCRIPTION:I CICLI DELLA MADRE TERRA \n“I Cicli della Madre Terra” è un progetto che nasce all’interno della mia Scuola “ Le Ali della Vita” e ha l’ obbiettico di recuperare il significato ancestrale della “Madre” .\nOgni artista ha studiato\, attraverso un processo meditativo\, la sua femminilità più profonda. Ha scoperto i suoi legami con i quattro elementi ( acqua – terra – fuoco- aria)\, ha ringraziato e onorato il suo essere donna con una o più opere dedicate a lei come Dea che Rinasce\, Crea e si espande\, ogni giorno.\nAlla Mostra esporranno otto donne\, sette che nascono dalla mia scuola( Anna Pavone\, Maria Pacchione\, Moira Centorame\, Moira Di Febo\, Genny Di Loreto\, Sulamita Primiero\, Giorgia Valentini) e una\, Angelica Di Francesco\, artista poliedrica\, che ha deciso di cimentarsi in questa ricerca.\nSaranno esposte circa 20 opere.\nAll’interno della mostra farò una lezione sul Culto della Venere (Tra Mito e Arte)\, dove spiegherò l’evoluzione della donna attraverso l’iconografia\, dalla preistoria ai giorni nostri.
URL:https://lucreziadifrancesco.com/event/il-culto-di-venere/
LOCATION:Lido 186\, via primo vere\, 51\, Pescara\, Italia
CATEGORIES:Eventi Le Ali della Vita
ATTACH;FMTTYPE=image/jpeg:https://lucreziadifrancesco.com/wp-content/uploads/2023/08/venere.jpeg
END:VEVENT
END:VCALENDAR