BEGIN:VCALENDAR
VERSION:2.0
PRODID:-//&quot;LE ALI DELLA VITA&quot; DI LUCREZIA DI FRANCESCO - ECPv6.15.18//NONSGML v1.0//EN
CALSCALE:GREGORIAN
METHOD:PUBLISH
X-ORIGINAL-URL:https://lucreziadifrancesco.com
X-WR-CALDESC:Eventi per &quot;LE ALI DELLA VITA&quot; DI LUCREZIA DI FRANCESCO
REFRESH-INTERVAL;VALUE=DURATION:PT1H
X-Robots-Tag:noindex
X-PUBLISHED-TTL:PT1H
BEGIN:VTIMEZONE
TZID:Europe/Rome
BEGIN:DAYLIGHT
TZOFFSETFROM:+0100
TZOFFSETTO:+0200
TZNAME:CEST
DTSTART:20230326T010000
END:DAYLIGHT
BEGIN:STANDARD
TZOFFSETFROM:+0200
TZOFFSETTO:+0100
TZNAME:CET
DTSTART:20231029T010000
END:STANDARD
BEGIN:DAYLIGHT
TZOFFSETFROM:+0100
TZOFFSETTO:+0200
TZNAME:CEST
DTSTART:20240331T010000
END:DAYLIGHT
BEGIN:STANDARD
TZOFFSETFROM:+0200
TZOFFSETTO:+0100
TZNAME:CET
DTSTART:20241027T010000
END:STANDARD
BEGIN:DAYLIGHT
TZOFFSETFROM:+0100
TZOFFSETTO:+0200
TZNAME:CEST
DTSTART:20250330T010000
END:DAYLIGHT
BEGIN:STANDARD
TZOFFSETFROM:+0200
TZOFFSETTO:+0100
TZNAME:CET
DTSTART:20251026T010000
END:STANDARD
END:VTIMEZONE
BEGIN:VEVENT
DTSTART;TZID=Europe/Rome:20241106T210000
DTEND;TZID=Europe/Rome:20241106T220000
DTSTAMP:20260423T154013
CREATED:20240909T152124Z
LAST-MODIFIED:20241016T094155Z
UID:9402-1730926800-1730930400@lucreziadifrancesco.com
SUMMARY:Biancaneve
DESCRIPTION:BIANCANEVE\nLa Volontà dell’Anima\n“Vorrei avere un giorno una bambina dai lunghi capelli neri come legno d’ebano\, le guance colorate come gocce di sangue e la pelle bianca come la neve”.\n(La Regina -Mamma di Biancaneve)\nDietro la Volontà della Regina sono nascosti tutti gli insegnamenti ancestrali tramandati per secoli.\nLi vuoi Conoscere?\nScrivimi al 3276912708
URL:https://lucreziadifrancesco.com/event/biancaneve/
LOCATION:Discord
CATEGORIES:Eventi Le Ali della Vita
ATTACH;FMTTYPE=image/jpeg:https://lucreziadifrancesco.com/wp-content/uploads/2024/09/BIANCANEVE-COPERTINA.jpeg
END:VEVENT
BEGIN:VEVENT
DTSTART;TZID=Europe/Rome:20241113T210000
DTEND;TZID=Europe/Rome:20241113T220000
DTSTAMP:20260423T154013
CREATED:20240909T152256Z
LAST-MODIFIED:20241016T094332Z
UID:9406-1731531600-1731535200@lucreziadifrancesco.com
SUMMARY:Biancaneve
DESCRIPTION:BIANCANEVE\nLa Volontà dell’Anima\n“Vorrei avere un giorno una bambina dai lunghi capelli neri come legno d’ebano\, le guance colorate come gocce di sangue e la pelle bianca come la neve”.\n(La Regina -Mamma di Biancaneve)\nDietro la Volontà della Regina sono nascosti tutti gli insegnamenti ancestrali tramandati per secoli.\nLi vuoi Conoscere?\nScrivimi al 3276912708
URL:https://lucreziadifrancesco.com/event/biancaneve-2/
LOCATION:Discord
CATEGORIES:Eventi Le Ali della Vita
ATTACH;FMTTYPE=image/jpeg:https://lucreziadifrancesco.com/wp-content/uploads/2024/09/BIANCANEVE-COPERTINA.jpeg
END:VEVENT
BEGIN:VEVENT
DTSTART;TZID=Europe/Rome:20241120T210000
DTEND;TZID=Europe/Rome:20241120T220000
DTSTAMP:20260423T154013
CREATED:20240909T152415Z
LAST-MODIFIED:20241016T094416Z
UID:9409-1732136400-1732140000@lucreziadifrancesco.com
SUMMARY:Biancaneve
DESCRIPTION:BIANCANEVE\nLa Volontà dell’Anima\n“Vorrei avere un giorno una bambina dai lunghi capelli neri come legno d’ebano\, le guance colorate come gocce di sangue e la pelle bianca come la neve”.\n(La Regina -Mamma di Biancaneve)\nDietro la Volontà della Regina sono nascosti tutti gli insegnamenti ancestrali tramandati per secoli.\nLi vuoi Conoscere?\nScrivimi al 3276912708
URL:https://lucreziadifrancesco.com/event/biancaneve-3/
LOCATION:Discord
CATEGORIES:Eventi Le Ali della Vita
ATTACH;FMTTYPE=image/jpeg:https://lucreziadifrancesco.com/wp-content/uploads/2024/09/BIANCANEVE-COPERTINA.jpeg
END:VEVENT
BEGIN:VEVENT
DTSTART;TZID=Europe/Rome:20241130T160000
DTEND;TZID=Europe/Rome:20241130T190000
DTSTAMP:20260423T154013
CREATED:20241122T091246Z
LAST-MODIFIED:20241122T094303Z
UID:9592-1732982400-1732993200@lucreziadifrancesco.com
SUMMARY:La Dea che Partorì la Civiltà
DESCRIPTION:LA DEA CHE PARTORI’ LA CIVILTA’:\nSpiritualità\, Cultura e Psicologia di un Archetipo\nIl 2024 è iniziato con il progetto dedicata alla “Grande Madre” nella sua Completezza. Chiuderemo l’anno con una meravigliosa collaborazione con gli archeologi ed esperti della Dea Madre. Saranno esposte le opere dei miei allievi\, grandi e piccini\, presso Villa Filiani a Pineto nelle giornate del 30 Novembre e 1 Dicembre.\nSaranno Esposte le opere di:\nCorso Adulti\nAnna Pavone\nGenny Di Loreto\nMoira Di Febo\nMaria Pacchione\nLuana Centorame\nTiziana Michelucci\nMelissa Spezialetti\nSulamita Primiero\nSonia Paladini\nChristian Centorame\nCorso Bambini\nNoemi Valleriani\nVanessa Bartoletti\nGioia Alessi\nDaniele Pacchione\nAlasya Costantini\nDiego Valleriani\nCorso Ragazzi\nSimone Margiovanni\nLeonardo Tudini\nEmily Astolfi\nSofia Valleriani\nVi Aspettiamo numerosi. \nGUARDA IL VIDEO\n\nhttps://lucreziadifrancesco.com/wp-content/uploads/2024/11/la-dea-che-partori-la-civilta.mp4
URL:https://lucreziadifrancesco.com/event/la-dea-che-partori-la-civilta/
LOCATION:Villa Filiani\, Via Gabriele D'Annunzio\, 175\, Pineto\, 64025\, Italia
CATEGORIES:Eventi Le Ali della Vita
ATTACH;FMTTYPE=image/jpeg:https://lucreziadifrancesco.com/wp-content/uploads/2024/11/la-dea-che-partori-la-civilta-copertina.jpeg
END:VEVENT
END:VCALENDAR