BEGIN:VCALENDAR
VERSION:2.0
PRODID:-//&quot;LE ALI DELLA VITA&quot; DI LUCREZIA DI FRANCESCO - ECPv6.15.18//NONSGML v1.0//EN
CALSCALE:GREGORIAN
METHOD:PUBLISH
X-WR-CALNAME:&quot;LE ALI DELLA VITA&quot; DI LUCREZIA DI FRANCESCO
X-ORIGINAL-URL:https://lucreziadifrancesco.com
X-WR-CALDESC:Eventi per &quot;LE ALI DELLA VITA&quot; DI LUCREZIA DI FRANCESCO
REFRESH-INTERVAL;VALUE=DURATION:PT1H
X-Robots-Tag:noindex
X-PUBLISHED-TTL:PT1H
BEGIN:VTIMEZONE
TZID:Europe/Rome
BEGIN:DAYLIGHT
TZOFFSETFROM:+0100
TZOFFSETTO:+0200
TZNAME:CEST
DTSTART:20240331T010000
END:DAYLIGHT
BEGIN:STANDARD
TZOFFSETFROM:+0200
TZOFFSETTO:+0100
TZNAME:CET
DTSTART:20241027T010000
END:STANDARD
BEGIN:DAYLIGHT
TZOFFSETFROM:+0100
TZOFFSETTO:+0200
TZNAME:CEST
DTSTART:20250330T010000
END:DAYLIGHT
BEGIN:STANDARD
TZOFFSETFROM:+0200
TZOFFSETTO:+0100
TZNAME:CET
DTSTART:20251026T010000
END:STANDARD
BEGIN:DAYLIGHT
TZOFFSETFROM:+0100
TZOFFSETTO:+0200
TZNAME:CEST
DTSTART:20260329T010000
END:DAYLIGHT
BEGIN:STANDARD
TZOFFSETFROM:+0200
TZOFFSETTO:+0100
TZNAME:CET
DTSTART:20261025T010000
END:STANDARD
END:VTIMEZONE
BEGIN:VEVENT
DTSTART;TZID=Europe/Rome:20250722T210000
DTEND;TZID=Europe/Rome:20250722T220000
DTSTAMP:20260421T053536
CREATED:20250717T134308Z
LAST-MODIFIED:20250723T090533Z
UID:10037-1753218000-1753221600@lucreziadifrancesco.com
SUMMARY:Maria Maddalena
DESCRIPTION:Maria Maddalena e il Femminile Sacro\nUn viaggio tra vangeli apocrifi\, arte e archetipi\nLunedì 22 luglio | Ore 21:00 | Live su Discord – Canale “Le Ali della Vita” \nUn incontro gratuito per riscoprire Maria Maddalena non come peccatrice\, ma come Maestra spirituale\, guida sapienziale e incarnazione del Cristo femminile.\nAttraverso le immagini dell’arte sacra e gli insegnamenti dei vangeli apocrifi\, esploreremo gli archetipi del Femminile Sacro:\nla Caverna della rinascita\,\n☥ la Chiave della vita\,\n✝ la Croce degli opposti\,\nla Coppa che accoglie. \nUn percorso interiore tra simboli\, immagini e rivelazioni\, per risvegliare in ognuno la voce del cuore e della conoscenza incarnata. \n“Ciò che mi lega è stato ucciso… la mia ignoranza è morta”\n– Vangelo di Maria \nIl corso è gratuito e si terrà in diretta sul canale Discord “Le Ali della Vita”.\nIscriviti ora per ricevere il link d’accesso!
URL:https://lucreziadifrancesco.com/event/maria-maddalena/
LOCATION:Discord
CATEGORIES:Eventi Le Ali della Vita
ATTACH;FMTTYPE=image/png:https://lucreziadifrancesco.com/wp-content/uploads/2025/07/maria-maddalena.png
END:VEVENT
END:VCALENDAR