BEGIN:VCALENDAR
VERSION:2.0
PRODID:-//&quot;LE ALI DELLA VITA&quot; DI LUCREZIA DI FRANCESCO - ECPv6.15.18//NONSGML v1.0//EN
CALSCALE:GREGORIAN
METHOD:PUBLISH
X-WR-CALNAME:&quot;LE ALI DELLA VITA&quot; DI LUCREZIA DI FRANCESCO
X-ORIGINAL-URL:https://lucreziadifrancesco.com
X-WR-CALDESC:Eventi per &quot;LE ALI DELLA VITA&quot; DI LUCREZIA DI FRANCESCO
REFRESH-INTERVAL;VALUE=DURATION:PT1H
X-Robots-Tag:noindex
X-PUBLISHED-TTL:PT1H
BEGIN:VTIMEZONE
TZID:Europe/Rome
BEGIN:DAYLIGHT
TZOFFSETFROM:+0100
TZOFFSETTO:+0200
TZNAME:CEST
DTSTART:20240331T010000
END:DAYLIGHT
BEGIN:STANDARD
TZOFFSETFROM:+0200
TZOFFSETTO:+0100
TZNAME:CET
DTSTART:20241027T010000
END:STANDARD
BEGIN:DAYLIGHT
TZOFFSETFROM:+0100
TZOFFSETTO:+0200
TZNAME:CEST
DTSTART:20250330T010000
END:DAYLIGHT
BEGIN:STANDARD
TZOFFSETFROM:+0200
TZOFFSETTO:+0100
TZNAME:CET
DTSTART:20251026T010000
END:STANDARD
BEGIN:DAYLIGHT
TZOFFSETFROM:+0100
TZOFFSETTO:+0200
TZNAME:CEST
DTSTART:20260329T010000
END:DAYLIGHT
BEGIN:STANDARD
TZOFFSETFROM:+0200
TZOFFSETTO:+0100
TZNAME:CET
DTSTART:20261025T010000
END:STANDARD
END:VTIMEZONE
BEGIN:VEVENT
DTSTART;TZID=Europe/Rome:20250801T160000
DTEND;TZID=Europe/Rome:20250801T190000
DTSTAMP:20260421T041432
CREATED:20250723T091128Z
LAST-MODIFIED:20250723T091331Z
UID:10048-1754064000-1754074800@lucreziadifrancesco.com
SUMMARY:Dentro ogni colore c’è un eroe
DESCRIPTION:Laboratorio creativo per bambini (5–12 anni) \nUn viaggio emozionante attraverso i colori e le emozioni\, alla scoperta degli eroi che vivono dentro ogni bambino. \n“Dentro ogni colore c’è un eroe” è un laboratorio esperienziale pensato per accompagnare i bambini in un percorso creativo e sensoriale\, dove il gioco\, l’immaginazione e l’arte diventano strumenti per esplorare il proprio mondo interiore. \nAttraverso brevi momenti di meditazione guidata\, attività espressive e disegno libero\, i partecipanti incontreranno 7 personaggi simbolici\, ciascuno legato a un colore e a un’emozione. \nDal guerriero rosso che ci dà forza\, al saggio viola che ci insegna la calma\, ogni tappa del percorso sarà un’occasione per riconoscere\, accogliere ed esprimere ciò che sentiamo… con la leggerezza e la magia del gioco. \n  \n✨ Cosa faremo \n\nMeditazioni guidate semplici e coinvolgenti\nAttività creative con disegno\, colore e movimento\nGiochi simbolici per riconoscere e accogliere le emozioni\nUn piccolo viaggio interiore da vivere insieme\, in libertà e sicurezza\n\n  \n Informazioni pratiche \n\nEtà consigliata: 7 – 12 anni\nDurata: 3 ore\nMateriali: Tutto incluso\nCosto: 15 € a bambino\nData: Venerdì 1 Agosto 2025\nOrario: dalle 16:00 alle 19:00\nLuogo: Via Abruzzo 123 – Silvi (TE)\n\n  \n️ Iscrizione \nPosti limitati – prenotazione obbligatoria\nContattami su WhatsApp al 327 691 2708 \n  \n Perché partecipare? \nIn un mondo che corre veloce\, regalare ai bambini uno spazio per ascoltarsi\, esprimersi e stare in contatto con sé stessi è un dono prezioso.\nQuesto laboratorio non richiede alcuna preparazione o conoscenza: solo la voglia di esplorare\, giocare e scoprire l’eroe colorato che vive dentro ognuno di noi. \n \n 
URL:https://lucreziadifrancesco.com/event/dentro-ogni-colore-ce-un-eroe/
LOCATION:Laboratorio della Maestra Lucrezia Di Francesco\, Via Abruzzo 123\, Silvi\, Teramo\, 64029\, Italia
CATEGORIES:Eventi Le Ali della Vita
ATTACH;FMTTYPE=image/png:https://lucreziadifrancesco.com/wp-content/uploads/2025/07/blue-gradient-travel-Presentation-169.png
END:VEVENT
BEGIN:VEVENT
DTSTART;TZID=Europe/Rome:20250806T210000
DTEND;TZID=Europe/Rome:20250806T233000
DTSTAMP:20260421T041432
CREATED:20250723T091826Z
LAST-MODIFIED:20250723T091826Z
UID:10054-1754514000-1754523000@lucreziadifrancesco.com
SUMMARY:Thaumazein 2025
DESCRIPTION: Thaumazein 2025 – Festival Internazionale delle Emozioni \n 6 agosto 2025 – ore 21:00\n Giardinetto\, via Zara – Francavilla al Mare \nSiamo felici di annunciare la nostra partecipazione al Thaumazein 2025 – Festival Internazionale delle Emozioni\, un evento unico dedicato all’arte\, alla bellezza e alla profondità dell’esperienza umana. \nIl festival\, ideato dal prof. Massimo Pasqualone e promosso dalle associazioni Alento e IndiDestinazionearte\, nasce per dare spazio alle emozioni\, trasformandole in espressione artistica attraverso performance\, incontri e momenti di riflessione condivisa. \n Un’occasione speciale \nIl 6 agosto alle ore 21:00\, gli allievi della scuola Le Ali della Vita saranno protagonisti di un momento straordinario. Esporranno i loro lavori\, racconteranno le loro storie\, condivideranno emozioni profonde nate dal Progetto Carletto – un percorso educativo e creativo che ha acceso scintille di consapevolezza e bellezza. \n Con noi\, Christian Dolente \nA ispirare tutto questo\, il libro di Christian Dolente\, autore che sarà presente all’evento per accompagnare con le sue parole e la sua sensibilità il cammino intrapreso da tutti i miei allievi. \n  \n✨ Thaumazein non è solo un evento. \nÈ un invito a fermarsi. A sentire. A lasciarsi toccare dall’autenticità. \nIn un mondo che corre veloce\, Thaumazein 2025 ci chiede di rallentare\, di ascoltare il cuore\, di accogliere la bellezza dei sogni e delle emozioni dei più giovani. \nVi aspettiamo a braccia aperte.\nPer emozionarci insieme.\nPerché c’è un luogo dove le emozioni diventano arte. E quel luogo è qui.
URL:https://lucreziadifrancesco.com/event/thaumazein-2025/
LOCATION:Giardinetto di Via Zara\, viale nettuno\, francavilla al mare\, Italia
CATEGORIES:Eventi Le Ali della Vita
ATTACH;FMTTYPE=image/png:https://lucreziadifrancesco.com/wp-content/uploads/2025/07/12.png
END:VEVENT
END:VCALENDAR