BEGIN:VCALENDAR
VERSION:2.0
PRODID:-//&quot;LE ALI DELLA VITA&quot; DI LUCREZIA DI FRANCESCO - ECPv6.15.18//NONSGML v1.0//EN
CALSCALE:GREGORIAN
METHOD:PUBLISH
X-ORIGINAL-URL:https://lucreziadifrancesco.com
X-WR-CALDESC:Eventi per &quot;LE ALI DELLA VITA&quot; DI LUCREZIA DI FRANCESCO
REFRESH-INTERVAL;VALUE=DURATION:PT1H
X-Robots-Tag:noindex
X-PUBLISHED-TTL:PT1H
BEGIN:VTIMEZONE
TZID:Europe/Rome
BEGIN:DAYLIGHT
TZOFFSETFROM:+0100
TZOFFSETTO:+0200
TZNAME:CEST
DTSTART:20240331T010000
END:DAYLIGHT
BEGIN:STANDARD
TZOFFSETFROM:+0200
TZOFFSETTO:+0100
TZNAME:CET
DTSTART:20241027T010000
END:STANDARD
BEGIN:DAYLIGHT
TZOFFSETFROM:+0100
TZOFFSETTO:+0200
TZNAME:CEST
DTSTART:20250330T010000
END:DAYLIGHT
BEGIN:STANDARD
TZOFFSETFROM:+0200
TZOFFSETTO:+0100
TZNAME:CET
DTSTART:20251026T010000
END:STANDARD
BEGIN:DAYLIGHT
TZOFFSETFROM:+0100
TZOFFSETTO:+0200
TZNAME:CEST
DTSTART:20260329T010000
END:DAYLIGHT
BEGIN:STANDARD
TZOFFSETFROM:+0200
TZOFFSETTO:+0100
TZNAME:CET
DTSTART:20261025T010000
END:STANDARD
BEGIN:DAYLIGHT
TZOFFSETFROM:+0100
TZOFFSETTO:+0200
TZNAME:CEST
DTSTART:20270328T010000
END:DAYLIGHT
BEGIN:STANDARD
TZOFFSETFROM:+0200
TZOFFSETTO:+0100
TZNAME:CET
DTSTART:20271031T010000
END:STANDARD
END:VTIMEZONE
BEGIN:VEVENT
DTSTART;VALUE=DATE:20250908
DTEND;VALUE=DATE:20260627
DTSTAMP:20260421T003209
CREATED:20250723T092615Z
LAST-MODIFIED:20250723T092735Z
UID:10060-1757289600-1782518399@lucreziadifrancesco.com
SUMMARY:Calendario Attività 2025/2026
DESCRIPTION:Scuola Le Ali della Vita – Metodo ARKA \nDiretto da Lucrezia Di Francesco \nRitrova te stesso attraverso l’arte\, la creatività e il potere trasformativo dell’immaginazione.\nLa Scuola Le Ali della Vita – Metodo ARKA propone per l’anno 2025/2026 un ricco calendario di corsi e percorsi dedicati a bambini\, ragazzi e adulti.\nAttività in presenza e online\, pensate per stimolare la crescita personale\, l’espressione autentica e la consapevolezza interiore attraverso l’arte. \n✨ Tema dell’anno:\nTutti i percorsi di quest’anno lavoreranno con gli archetipi e i simboli ispirati ad Alice nel Paese delle Meraviglie: un viaggio immaginifico e trasformativo tra meraviglia\, identità e cambiamento.\nFa eccezione il percorso “Radici e Rinascita”\, che seguirà un cammino a parte\, legato al mondo delle fiabe e degli archetipi tradizionali. \n  \n CORSI ADULTI \n Corso Pratico – In presenza\nInizio: 8 Settembre 2025\nOgni lunedì e giovedì\, dalle 15:30 alle 19:30\nUn percorso esperienziale e laboratoriale per risvegliare la creatività attraverso il fare artistico. \n Corso Teorico – “Oltre lo Specchio: un Viaggio nella Magia dell’Arte”\nInizio: 10 Settembre 2025\nOnline – 1 mercoledì al mese\, dalle 21:00 alle 22:00\n10 incontri per riflettere sull’arte come linguaggio simbolico e strumento di trasformazione interiore. \n Radici e Rinascita – Un Viaggio Interiore tra Fiabe\, Archetipi e Creatività\n1 martedì al mese\, dalle 18:00 alle 20:00\nOnline – 10 incontri\nUn percorso narrativo e simbolico per riscoprire il proprio mondo interiore attraverso fiabe e linguaggi creativi.\nQuesto percorso seguirà un filone tematico indipendente\, distinto da quello ispirato ad Alice. \n Corso Personalizzato – Online\nSu appuntamento concordato\nPercorsi individuali o in piccoli gruppi\, con contenuti flessibili e orari personalizzati. \n  \n CORSI RAGAZZI \nInizio: 10 Settembre 2025\nOgni mercoledì\, dalle 16:30 alle 18:30\nLaboratori creativi per stimolare l’immaginazione\, la manualità e l’espressione emotiva nei ragazzi. \n  \n CORSI BAMBINI \nInizio: 9 Settembre 2025\nAttività ludico-espressive pensate per i più piccoli: \n\nGruppo 1 – Ogni martedì\, dalle 15:30 alle 17:00\nGruppo 2 – Ogni mercoledì\, dalle 15:00 alle 16:30\n\n  \n✨ Vuoi fare una lezione di prova gratuita? \nScrivimi su WhatsApp: 327 691 2708\nScopri di più sul sito: www.lucreziadifrancesco.com \n  \n Diventa l’opera d’arte che sei destinato ad essere. \nCon la Scuola Le Ali della Vita – Metodo ARKA
URL:https://lucreziadifrancesco.com/event/calendario-attivita-2025-2026/
LOCATION:Laboratorio della Maestra Lucrezia Di Francesco\, Via Abruzzo 123\, Silvi\, Teramo\, 64029\, Italia
CATEGORIES:Eventi Le Ali della Vita
ATTACH;FMTTYPE=image/png:https://lucreziadifrancesco.com/wp-content/uploads/2025/07/13.png
END:VEVENT
BEGIN:VEVENT
DTSTART;VALUE=DATE:20250913
DTEND;VALUE=DATE:20251123
DTSTAMP:20260421T003209
CREATED:20250723T093225Z
LAST-MODIFIED:20250723T093753Z
UID:10067-1757721600-1763855999@lucreziadifrancesco.com
SUMMARY:Oltre lo Specchio con Alice e il Bianconiglio
DESCRIPTION:Un viaggio trasformativo tra simboli\, archetipi e consapevolezza \nDal 13 settembre 2025\, prende il via un percorso formativo e simbolico in 6 tappe online\, ispirato agli archetipi e ai personaggi di Alice nel Paese delle Meraviglie.\nUn viaggio per ritrovare sé stessi\, trasformare schemi invisibili e riscrivere la propria storia interiore con dolcezza e profondità. \n  \n Il Calendario delle Tappe \nTutti gli incontri si svolgono dalle 16:00 alle 19:00 – online \n\n Attraverso lo Specchio – Il Bianconiglio e il Tempo Interiore\n13 settembre 2025 | 16:00 – 19:00\nFermarsi\, ascoltarsi\, smettere di correre per la vita degli altri.\n La Chiave dell’Anima – La Bambina Interiore\n27 settembre 2025 | 16:00 – 19:00\nRitrovare la voce perduta dell’infanzia e darle spazio oggi.\n Il Tè dell’Eterno Adesso – Il Cappellaio Matto\n11 ottobre 2025 | 16:00 – 19:00\nRompere la routine e accogliere il nuovo che vuole emergere.\n Il Fuoco Interiore – La Regina di Cuori\n25 ottobre 2025 | 16:00 – 19:00\nTrasformare la rabbia in forza creativa e dire finalmente “io”.\n Il Sorriso Invisibile – Lo Stregatto\n8 novembre 2025 | 16:00 – 19:00\nLasciare andare le maschere e fidarsi del proprio intuito.\n La Farfalla – Il Brucaliffo e la Trasformazione\n22 novembre 2025 | 16:00 – 19:00\nRinascere\, integrando il viaggio\, scegliendo chi vogliamo essere.\n\n  \n Iscriviti ora e approfitta delle offerte! \nIscrizione anticipata entro il 2 settembre:\n€280 anziché €320 \nIl primo iscritto riceve il 30% di sconto \n‍♀️ Porta un’amica:\nLei riceverà il 20% di sconto \n  \n✨ Cosa troverai in ogni incontro: \n\nCostellazioni Familiari simboliche\nArteterapia immaginativa\nSelezione personalizzata di Fiori di Bach\nMeditazioni guidate evocative\n\nUn’esperienza completa per corpo\, mente e anima. \n  \nModalità: Online\n⏰ Orario: 16:00 – 19:00\n‍ Conducono: Lucrezia Di Francesco\, Maestra d’Arte & Marina Lucci\, Dottoressa \n  \nContattami su WhatsApp: 327 691 2708\nScopri di più su: www.lucreziadifrancesco.com \n  \n “Chi sei?” chiede il Brucaliffo. \nQuesto percorso è il tempo e lo spazio per rispondere. \n 
URL:https://lucreziadifrancesco.com/event/oltre-lo-specchio-con-alice-e-il-bianconiglio/
LOCATION:Zoom
CATEGORIES:Eventi Le Ali della Vita
ATTACH;FMTTYPE=image/jpeg:https://lucreziadifrancesco.com/wp-content/uploads/2025/07/copertina-oltre-lo-specchio.jpg
END:VEVENT
BEGIN:VEVENT
DTSTART;TZID=Europe/Rome:20251111T203000
DTEND;TZID=Europe/Rome:20251111T220000
DTSTAMP:20260421T003209
CREATED:20251009T091304Z
LAST-MODIFIED:20251009T091521Z
UID:10173-1762893000-1762898400@lucreziadifrancesco.com
SUMMARY:Radici e Rinascita
DESCRIPTION:“I VOLTI DEL PADRE E DELLA MADRE”\nSeconda Lezione – 11 Novembre 2024\nAmerican Gothic di Grant Wood\nIl Genitore Terreno \nDalle Idealizzazioni alla Realtà \nDalle 20:30 alle 22:00 esploreremo uno dei dipinti più iconici dell’arte americana: l’austero volto\ndei genitori concreti\, pragmatici\, radicati nella terra.\nDopo aver incontrato il “Genitore Ideale” di Raffaello\, è tempo di confrontarsi con il Genitore\nTerreno – quello che ci ha cresciuto con le sue virtù\, i suoi limiti\, le sue rigidità e la sua saggezza\npratica. \nUn Viaggio nel Quotidiano Sacro \nL’American Gothic non è solo un ritratto dell’America rurale\, ma uno specchio delle dinamiche\nfamiliari più concrete e quotidiane che hanno formato il nostro carattere.\nCosa scoprirai:\nCome i modelli genitoriali tradizionali influenzano ancora oggi le tue relazioni\nIl potere e i limiti dell’educazione severa e pragmatica\nCome trasformare la rigidità in stabilità emotiva\nIl valore nascosto dietro le apparenti limitazioni familiari \nProgramma della Serata \nAnalisi dell’Opera d’Arte\nDecodifica i simboli di severità\, lavoro e tradizione nell’iconico dipinto di Grant Wood\nMeditazione degli Archetipi\nIncontra il tuo Genitore Terreno interiore e riconosci la sua saggezza pratica\nEsercizi di Arteterapia\nEsprimi creativamente il tuo rapporto con l’autorità e le regole familiari\nCostellazioni Familiari Simboliche\nRiordina le dinamiche di controllo e protezione nel tuo sistema familiare \nInvestimento\nSingola Lezione: €28\nOppure unisciti al percorso completo:\n–Pacchetto 4 lezioni: €75 invece di €84\n–Early Bird: €70 (fino al 20 ottobre!) \nPerché Partecipare a Questa Lezione \nMolti di noi portano dentro di sé giudizi verso i genitori “troppo severi” o “limitanti”. Questa serata ti\naiuterà a:\n-Riconoscere il valore dietro le apparenti rigidità familiari\n–Trasformare i conflitti in comprensione profonda\n–Integrare la stabilità del Genitore Terreno nella tua vita adulta\n–Liberarti dai sensi di colpa verso le tue origini \nLa Tua Guida\nLucrezia Di Francesco \nMaestra d’Arte • Arteterapeuta • Costellatrice Familiare\nTi accompagnerà con sensibilità in questo delicato viaggio di riconciliazione con le tue radici più\nconcrete. \nOnline su Zoom \nPartecipa dal comfort di casa tua\, in un ambiente sicuro e protetto per esplorare temi così personali. \nIl Percorso Continua \nProssime tappe del viaggio:\n–9 dicembre – Saturno che divora i suoi figli di Goya (Il Genitore Ombra)\n–13 gennaio – L’Angelus di Millet (Il Genitore Spirituale) \nPRENOTA IL TUO POSTO \nPOSTI LIMITATI\nChiama ora: 327.691.2708 \nÈ Tempo di Fare Pace con le Tue Radici \nNon tutti i genitori sono perfetti\, ma tutti hanno qualcosa di prezioso da insegnarci.\nQuesta serata ti aiuterà a trovare la gratitudine nascosta dietro anche le esperienze più\ndifficili.\nPerché solo accettando completamente da dove veniamo\, possiamo scegliere davvero dove andare.
URL:https://lucreziadifrancesco.com/event/radici-e-rinascita/
LOCATION:Zoom
CATEGORIES:Eventi Le Ali della Vita
ATTACH;FMTTYPE=image/jpeg:https://lucreziadifrancesco.com/wp-content/uploads/2025/10/American-Gothic-di-Grant-Wood-1.jpg
END:VEVENT
BEGIN:VEVENT
DTSTART;TZID=Europe/Rome:20251112T210000
DTEND;TZID=Europe/Rome:20251112T220000
DTSTAMP:20260421T003209
CREATED:20250723T095722Z
LAST-MODIFIED:20250723T095722Z
UID:10093-1762981200-1762984800@lucreziadifrancesco.com
SUMMARY:Bevimi e Mangimi: Il Cambiamento
DESCRIPTION:Terzo incontro del percorso “Oltre lo Specchio” \nUn incontro dedicato al potere del cambiamento\, ispirato alle trasformazioni di Alice\, tra crescita\, riduzione e nuovi stati di coscienza. \n Tema del mese: \nIl cambiamento fisico ed emozionale\nQuesto appuntamento è un invito a osservare e accogliere i cicli di espansione e contrazione della nostra identità. Proprio come Alice cambia dimensione\, anche noi esploreremo il nostro rapporto con l’ego e la trasformazione. \n‍♀️ Meditazione Archetipica \nAttraverso una meditazione profonda\, ci muoveremo tra diversi stati interiori\, osservando come l’ego emerga e si dissolva. Dopo la meditazione\, ogni partecipante realizzerà un disegno infantile che rappresenti questa esperienza di cambiamento. \n Parte artistica \nUseremo forme sovrapposte e materiali simbolici per dare forma visiva alla crescita e riduzione dell’ego. Gli oggetti riciclati serviranno a sottolineare il tema della trasformazione e del rinnovamento personale. \n Lettura simbolica \nNel suo viaggio\, Alice cambia dimensione più volte\, affrontando la meraviglia e la sfida dell’adattamento. Anche noi ci confronteremo con il cambiamento come strumento di evoluzione. \n  \n Informazioni pratiche per questo incontro \n Il corso si svolge online sulla piattaforma Discord\n Se sei iscritto al corso di pittura adulti\, questa lezione è già compresa nella tua mensilità.\n‍♂️ Se vuoi partecipare solo alla parte teorica (meditazione + lettura simbolica)\, puoi farlo anche singolarmente:\n Costo per incontro singolo: 30 € \n Per info e prenotazioni scrivimi su WhatsApp al 327 691 2708
URL:https://lucreziadifrancesco.com/event/bevimi-e-mangimi-il-cambiamento/
LOCATION:Discord
CATEGORIES:Eventi Le Ali della Vita
ATTACH;FMTTYPE=image/png:https://lucreziadifrancesco.com/wp-content/uploads/2025/07/3-2.png
END:VEVENT
BEGIN:VEVENT
DTSTART;TZID=Europe/Rome:20251125T173000
DTEND;TZID=Europe/Rome:20251125T183000
DTSTAMP:20260421T003209
CREATED:20251029T091121Z
LAST-MODIFIED:20251029T091549Z
UID:10293-1764091800-1764095400@lucreziadifrancesco.com
SUMMARY:Presentazione del Romanzo
DESCRIPTION:Evento – Presentazione del Romanzo “Quando l’Anima Ricorda – Josef e Maryàm”\nMartedì 25 novembre 2025\nOre 17:30\nFondazione La Rocca\, Via R. Paolucci 71 – Pescara (PE) \nUn viaggio tra parole\, silenzio e amore che trascende il tempo\nLa Fondazione La Rocca ospita la presentazione ufficiale del romanzo\n“Quando l’Anima Ricorda – Josef e Maryàm” di Lucrezia Di Francesco\, edito da Drakon Edizioni nella collana Drakon racconta. \nUn’opera nata da un profondo ascolto interiore\, che unisce arte\, spiritualità e introspezione.\nAmbientato nella Cornovaglia di fine Ottocento\, il romanzo racconta la storia di Maryàm e Josef\, due anime che si ritrovano dopo essersi cercate per molte vite\, in un viaggio di amore\, guarigione e consapevolezza. \nDurante l’evento\nDialoga con l’autrice:\nAnnamaria Acunzo\, giornalista\, insegnante e operatrice olistica\, guiderà la presentazione in un incontro intimo e profondo\, tra parola e riflessione. \nAttimi di Silenzio:\nValentina Bogi accompagnerà il pubblico attraverso momenti di meditazione e suoni armonici di campane tibetane\, invitando all’ascolto e alla connessione interiore. \nIl cuore del romanzo\n“Perché l’amore vero non si dimentica.\nSi riconosce.” \nQuesta frase\, simbolo dell’intera opera\, racchiude l’essenza di un racconto che attraversa il tempo e tocca le corde più profonde dell’anima. \nDettagli evento\nData: Martedì 25 novembre 2025\nOrario: 17:30 \nLuogo: Fondazione La Rocca – Via R. Paolucci\, 71 – Pescara (PE)\nEditore: Drakon Edizioni – Collana Drakon racconta\nModeratrice: Annamaria Acunzo – giornalista\, insegnante e operatrice olistica\nAttimi di Silenzio: Valentina Bogi – meditazione e campane tibetane \nUn invito aperto a tutti\nL’incontro sarà un’occasione per scoprire un romanzo che nasce dal silenzio e parla all’anima.\nUn evento dedicato a chi sente il bisogno di ritrovare se stesso attraverso l’arte\, la parola e il suono. \nIngresso libero fino a esaurimento posti.
URL:https://lucreziadifrancesco.com/event/presentazione-del-romanzo/
LOCATION:Fondazione la Rocca\, via R. Paolucci 71\, PE\, 65121\, Italy
CATEGORIES:Eventi Le Ali della Vita
ATTACH;FMTTYPE=image/jpeg:https://lucreziadifrancesco.com/wp-content/uploads/2025/10/Presentazione-libro.jpg
END:VEVENT
END:VCALENDAR