BEGIN:VCALENDAR
VERSION:2.0
PRODID:-//&quot;LE ALI DELLA VITA&quot; DI LUCREZIA DI FRANCESCO - ECPv6.15.18//NONSGML v1.0//EN
CALSCALE:GREGORIAN
METHOD:PUBLISH
X-WR-CALNAME:&quot;LE ALI DELLA VITA&quot; DI LUCREZIA DI FRANCESCO
X-ORIGINAL-URL:https://lucreziadifrancesco.com
X-WR-CALDESC:Eventi per &quot;LE ALI DELLA VITA&quot; DI LUCREZIA DI FRANCESCO
REFRESH-INTERVAL;VALUE=DURATION:PT1H
X-Robots-Tag:noindex
X-PUBLISHED-TTL:PT1H
BEGIN:VTIMEZONE
TZID:Europe/Rome
BEGIN:DAYLIGHT
TZOFFSETFROM:+0100
TZOFFSETTO:+0200
TZNAME:CEST
DTSTART:20240331T010000
END:DAYLIGHT
BEGIN:STANDARD
TZOFFSETFROM:+0200
TZOFFSETTO:+0100
TZNAME:CET
DTSTART:20241027T010000
END:STANDARD
BEGIN:DAYLIGHT
TZOFFSETFROM:+0100
TZOFFSETTO:+0200
TZNAME:CEST
DTSTART:20250330T010000
END:DAYLIGHT
BEGIN:STANDARD
TZOFFSETFROM:+0200
TZOFFSETTO:+0100
TZNAME:CET
DTSTART:20251026T010000
END:STANDARD
BEGIN:DAYLIGHT
TZOFFSETFROM:+0100
TZOFFSETTO:+0200
TZNAME:CEST
DTSTART:20260329T010000
END:DAYLIGHT
BEGIN:STANDARD
TZOFFSETFROM:+0200
TZOFFSETTO:+0100
TZNAME:CET
DTSTART:20261025T010000
END:STANDARD
BEGIN:DAYLIGHT
TZOFFSETFROM:+0100
TZOFFSETTO:+0200
TZNAME:CEST
DTSTART:20270328T010000
END:DAYLIGHT
BEGIN:STANDARD
TZOFFSETFROM:+0200
TZOFFSETTO:+0100
TZNAME:CET
DTSTART:20271031T010000
END:STANDARD
END:VTIMEZONE
BEGIN:VEVENT
DTSTART;VALUE=DATE:20250908
DTEND;VALUE=DATE:20260627
DTSTAMP:20260420T231641
CREATED:20250723T092615Z
LAST-MODIFIED:20250723T092735Z
UID:10060-1757289600-1782518399@lucreziadifrancesco.com
SUMMARY:Calendario Attività 2025/2026
DESCRIPTION:Scuola Le Ali della Vita – Metodo ARKA \nDiretto da Lucrezia Di Francesco \nRitrova te stesso attraverso l’arte\, la creatività e il potere trasformativo dell’immaginazione.\nLa Scuola Le Ali della Vita – Metodo ARKA propone per l’anno 2025/2026 un ricco calendario di corsi e percorsi dedicati a bambini\, ragazzi e adulti.\nAttività in presenza e online\, pensate per stimolare la crescita personale\, l’espressione autentica e la consapevolezza interiore attraverso l’arte. \n✨ Tema dell’anno:\nTutti i percorsi di quest’anno lavoreranno con gli archetipi e i simboli ispirati ad Alice nel Paese delle Meraviglie: un viaggio immaginifico e trasformativo tra meraviglia\, identità e cambiamento.\nFa eccezione il percorso “Radici e Rinascita”\, che seguirà un cammino a parte\, legato al mondo delle fiabe e degli archetipi tradizionali. \n  \n CORSI ADULTI \n Corso Pratico – In presenza\nInizio: 8 Settembre 2025\nOgni lunedì e giovedì\, dalle 15:30 alle 19:30\nUn percorso esperienziale e laboratoriale per risvegliare la creatività attraverso il fare artistico. \n Corso Teorico – “Oltre lo Specchio: un Viaggio nella Magia dell’Arte”\nInizio: 10 Settembre 2025\nOnline – 1 mercoledì al mese\, dalle 21:00 alle 22:00\n10 incontri per riflettere sull’arte come linguaggio simbolico e strumento di trasformazione interiore. \n Radici e Rinascita – Un Viaggio Interiore tra Fiabe\, Archetipi e Creatività\n1 martedì al mese\, dalle 18:00 alle 20:00\nOnline – 10 incontri\nUn percorso narrativo e simbolico per riscoprire il proprio mondo interiore attraverso fiabe e linguaggi creativi.\nQuesto percorso seguirà un filone tematico indipendente\, distinto da quello ispirato ad Alice. \n Corso Personalizzato – Online\nSu appuntamento concordato\nPercorsi individuali o in piccoli gruppi\, con contenuti flessibili e orari personalizzati. \n  \n CORSI RAGAZZI \nInizio: 10 Settembre 2025\nOgni mercoledì\, dalle 16:30 alle 18:30\nLaboratori creativi per stimolare l’immaginazione\, la manualità e l’espressione emotiva nei ragazzi. \n  \n CORSI BAMBINI \nInizio: 9 Settembre 2025\nAttività ludico-espressive pensate per i più piccoli: \n\nGruppo 1 – Ogni martedì\, dalle 15:30 alle 17:00\nGruppo 2 – Ogni mercoledì\, dalle 15:00 alle 16:30\n\n  \n✨ Vuoi fare una lezione di prova gratuita? \nScrivimi su WhatsApp: 327 691 2708\nScopri di più sul sito: www.lucreziadifrancesco.com \n  \n Diventa l’opera d’arte che sei destinato ad essere. \nCon la Scuola Le Ali della Vita – Metodo ARKA
URL:https://lucreziadifrancesco.com/event/calendario-attivita-2025-2026/
LOCATION:Laboratorio della Maestra Lucrezia Di Francesco\, Via Abruzzo 123\, Silvi\, Teramo\, 64029\, Italia
CATEGORIES:Eventi Le Ali della Vita
ATTACH;FMTTYPE=image/png:https://lucreziadifrancesco.com/wp-content/uploads/2025/07/13.png
END:VEVENT
BEGIN:VEVENT
DTSTART;TZID=Europe/Rome:20251206T160000
DTEND;TZID=Europe/Rome:20251206T190000
DTSTAMP:20260420T231641
CREATED:20251029T091837Z
LAST-MODIFIED:20251029T091837Z
UID:10300-1765036800-1765047600@lucreziadifrancesco.com
SUMMARY:Radici e Rinascita - Sotto la Tavola
DESCRIPTION:  \n \nTrasforma i conflitti nascosti nelle tue relazioni familiari e ritrova la pace consapevole per un Natale autentico. \nUn Percorso Trasformativo per la Tua Famiglia\nSabato 6 dicembre 2025 | 16:00-19:00  Evento Online Esclusivo \n\nPerché Partecipare?\nBenefici del Percorso\nGuarisci le Relazioni Familiari Scopri come trasformare i conflitti nascosti in opportunità di crescita. Impara a comunicare con autenticità e ricostruire legami danneggiati\, creando una base solida di amore e comprensione con i tuoi cari. \nRitrovare la Pace Interiore Attraverso le costellazioni simboliche\, imparerai a riconoscere i pattern nascosti che guidano le tue relazioni. Questo consapevolezza ti permetterà di lasciar andare il peso emotivo e accogliere la serenità che meriti. \nUn Natale Più Autentico Lasciate alle spalle le maschere e le aspettative imposte. Questo percorso vi guida verso un Natale basato sulla verità\, l’accettazione reciproca e la connessione genuina con chi amate. \nLibertà dalle Limitazioni Familiari Attraverso la visione guidata “Freedom from Want”\, scoprirai il significato della tavola ideale per la tua vita e come crearla liberandoti dai condizionamenti del passato. \nStrumenti Pratici e Duraturi Non è solo teoria: riceverai tecniche concrete di simbolismo e costellazioni familiari che potrai applicare nelle tue relazioni quotidiane\, con effetti che perdureranno ben oltre le festività. \nSpazio Consapevole e Supporto Condividi questa esperienza in un ambiente sicuro\, guidato dalla Maestra d’Arte Lucrezia Di Francesco\, specializzata in arteterapia e costellazioni familiari. \nCosa Include il Percorso\n✓ Visione Guidata dell’Opera “Freedom from Want” – Riscopri il simbolo della tavola ideale\n✓ Laboratorio Creativo “La mia tavola interiore” – Esprimi i tuoi sentimenti di libertà\n✓ Costellazioni Simboliche – Scopri i pattern nascosti che guidano le tue relazioni\n✓ Condivisione Consapevole – Momento di integrazione e riflessione con il Metodo Arka \nInvestimento\n\n\n\nOpzione\nPrezzo\n\n\n\n\nQuota Singola\n€45\n\n\nPacchetto Coppia (Tu + Un Caro)\n€75\n\n\nRisparmi\n€15 • Condividi questa esperienza con chi ami\n\n\n\n\n Posti Limitati: Solo 10 Disponibili\nPRENOTA SUBITO AL: 3276912708 \nCondotta da\nLucrezia Di Francesco\nMaestra d’Arte – Arteteraputa e Costellatrice Familiare \nSpecializzata nel guidare le persone verso l’armonia relazionale attraverso l’arte\, il simbolismo e le costellazioni familiari. \nUn pomeriggio per ritrovare il tuo posto alla tavola della vita\, lasciando che l’arte e il cuore ti guidino verso un Natale più vero.
URL:https://lucreziadifrancesco.com/event/radici-e-rinascita-sotto-la-tavola/
LOCATION:Zoom
CATEGORIES:Eventi Le Ali della Vita
ATTACH;FMTTYPE=image/jpeg:https://lucreziadifrancesco.com/wp-content/uploads/2025/10/32.jpg
END:VEVENT
BEGIN:VEVENT
DTSTART;TZID=Europe/Rome:20251209T203000
DTEND;TZID=Europe/Rome:20251209T220000
DTSTAMP:20260420T231641
CREATED:20251009T095000Z
LAST-MODIFIED:20251009T095104Z
UID:10196-1765312200-1765317600@lucreziadifrancesco.com
SUMMARY:Radici e Rinascita
DESCRIPTION:“I VOLTI DEL PADRE E DELLA MADRE” \nTerza Lezione – 9 Dicembre 2024\nSaturno che divora i suoi figli di Goya\nIl Genitore Ombra \nIl Coraggio di Guardare Nell’Ombra \nDalle 20:30 alle 22:00 affronteremo il più potente e inquietante dei dipinti del nostro percorso.\nDopo aver esplorato il Genitore Ideale e quello Terreno\, è tempo di incontrare il Genitore Ombra.\nQuesta non è una serata per tutti. È per chi ha il coraggio di guardare negli angoli più bui delle\ndinamiche familiari\, per trasformare il dolore in saggezza. \nUn Viaggio di Liberazione Profonda \nIl “Saturno” di Goya è un grido primordiale che tocca le corde più profonde dell’anima.\nRappresenta:\nLa paura genitoriale di essere superati dai propri figli\nI traumi generazionali che si perpetuano inconsciamente\nIl lato distruttivo dell’amore possessivo\nLa necessità di spezzare catene invisibili ma potentissimi\nNon è un dipinto che si guarda. È un dipinto che si sperimenta. \nCosa Affronteremo Insieme \nATTENZIONE: Questa serata tratta temi intensi e profondi. È consigliata solo a chi sente di essere\npronto per un lavoro di trasformazione autentico.\n–Analisi dell’Opera d’Arte\nDecifra i simboli del potere distruttivo e della paura primordiale in uno dei dipinti più disturbanti della\nstoria\n–Meditazione degli Archetipi\nIncontra con sicurezza il tuo Genitore Ombra interiore in uno spazio protetto\n–Esercizi di Arteterapia\nTrasforma attraverso l’arte i tuoi vissuti più difficili in forza creativa\n–Costellazioni Familiari Simboliche\nSpezza le catene dei traumi generazionali e libera il tuo lignaggio \nUn Spazio Sacro e Protetto \nLucrezia creerà un contenitore emotivo sicuro dove poter esplorare anche i temi più delicati. Questo\nnon è solo un corso\, ma un rituale di liberazione.\nQuesta serata è per te se:\n-Senti che pattern familiari negativi si ripetono nella tua vita\n-Hai vissuto dinamiche genitoriali complesse o traumatiche\n-Vuoi spezzare catene generazionali per te e per chi verrà dopo di te\n-Sei pronto/a a trasformare il dolore in saggezza \nInvestimento per la Tua Liberazione \nSingola Lezione: €28 \nDalla Distruzione alla Rinascita\nSaturno non divora per crudeltà\, ma per paura. Questa serata ti aiuterà a:\n–Riconoscere i pattern distruttivi familiari senza giudizio\n–Comprendere le paure che muovono anche i genitori più difficili\n–Liberarti dalle catene invisibili che limitano la tua espressione\n–Trasformare l’eredità del dolore in forza generativa \nLa Tua Guida Esperta\nLucrezia Di Francesco \nMaestra d’Arte • Arteterapeuta • Costellatrice Familiare\nCon oltre anni di esperienza nell’accompagnamento di traumi familiari\, saprà guidarti con la giusta\ndelicatezza in questa trasformazione profonda. \nDopo la Tempesta\, la Luce \nUltima tappa del viaggio:\n–13 gennaio – L’Angelus di Millet (Il Genitore Spirituale)\nDopo aver attraversato l’ombra\, ti aspetta la riconnessione con il sacro. \nPRENOTA CON CONSAPEVOLEZZA\nPOSTI LIMITATI\nChiama ora: 327.691.2708\nPartecipa solo se ti senti davvero pronto/a per questo livello di profondità. \nIl Coraggio di Chi Trasforma\n“Solo chi ha il coraggio di guardare nei propri abissi può scoprire le stelle che vi brillano.” \nQuesta serata non è per sfuggire dal buio\, ma per attraversarlo e trovare la luce che hai sempre\nportato dentro.\nSei pronto/a a liberarti per sempre?
URL:https://lucreziadifrancesco.com/event/radici-e-rinascita-4/
LOCATION:Zoom
CATEGORIES:Eventi Le Ali della Vita
ATTACH;FMTTYPE=image/jpeg:https://lucreziadifrancesco.com/wp-content/uploads/2025/10/Saturno-che-divora-i-suoi-figli-di-Goya-1-.jpg
END:VEVENT
BEGIN:VEVENT
DTSTART;TZID=Europe/Rome:20251210T210000
DTEND;TZID=Europe/Rome:20251210T220000
DTSTAMP:20260420T231641
CREATED:20250723T100007Z
LAST-MODIFIED:20250723T100007Z
UID:10097-1765400400-1765404000@lucreziadifrancesco.com
SUMMARY:Il Tempo del Bianconiglio
DESCRIPTION:Quarto incontro del percorso “Oltre lo Specchio” \nUn incontro dedicato al tempo: come lo percepiamo\, come ci sfugge e come possiamo riconoscerlo come strumento di consapevolezza. \n️ Tema del mese: \nLa gestione del tempo e la consapevolezza del presente\nIspirandoci al Bianconiglio – sempre in ritardo\, sempre di corsa – rifletteremo su come viviamo il tempo e sulle scelte che ne derivano. Un invito a fermarsi\, osservare e ritrovare il proprio ritmo interiore. \n‍♀️ Meditazione Archetipica \nDurante la meditazione esploreremo il tempo come flusso e come spazio di possibilità. Il Bianconiglio sarà il nostro simbolo-guida per accedere a una nuova relazione con il presente. Dopo la meditazione\, i partecipanti realizzeranno un disegno infantile per esprimere visivamente la percezione soggettiva del tempo. \n Parte artistica \nAttraverso spirali\, vortici e forme dinamiche dipinte su tele verticali\, daremo forma artistica al concetto di tempo che scorre. I colori e i movimenti del pennello racconteranno la nostra personale esperienza del “qui e ora”. \n Lettura simbolica \nIl Bianconiglio\, sempre in corsa\, ci ricorda quanto spesso siamo travolti dal tempo. Questo incontro ci invita a rallentare\, a vivere il presente e ad ascoltare le scelte che ci aspettano. \n  \n Informazioni pratiche per questo incontro \n Il corso si svolge online sulla piattaforma Discord\n Se sei iscritto al corso di pittura adulti\, questa lezione è già compresa nella tua mensilità.\n‍♂️ Se vuoi partecipare solo alla parte teorica (meditazione + lettura simbolica)\, puoi farlo anche singolarmente:\n Costo per incontro singolo: 30 € \n Per info e prenotazioni scrivimi su WhatsApp al 327 691 2708
URL:https://lucreziadifrancesco.com/event/il-tempo-del-bianconiglio/
LOCATION:Discord
CATEGORIES:Eventi Le Ali della Vita
ATTACH;FMTTYPE=image/png:https://lucreziadifrancesco.com/wp-content/uploads/2025/07/4-2.png
END:VEVENT
END:VCALENDAR