BEGIN:VCALENDAR
VERSION:2.0
PRODID:-//&quot;LE ALI DELLA VITA&quot; DI LUCREZIA DI FRANCESCO - ECPv6.15.18//NONSGML v1.0//EN
CALSCALE:GREGORIAN
METHOD:PUBLISH
X-ORIGINAL-URL:https://lucreziadifrancesco.com
X-WR-CALDESC:Eventi per &quot;LE ALI DELLA VITA&quot; DI LUCREZIA DI FRANCESCO
REFRESH-INTERVAL;VALUE=DURATION:PT1H
X-Robots-Tag:noindex
X-PUBLISHED-TTL:PT1H
BEGIN:VTIMEZONE
TZID:Europe/Rome
BEGIN:DAYLIGHT
TZOFFSETFROM:+0100
TZOFFSETTO:+0200
TZNAME:CEST
DTSTART:20240331T010000
END:DAYLIGHT
BEGIN:STANDARD
TZOFFSETFROM:+0200
TZOFFSETTO:+0100
TZNAME:CET
DTSTART:20241027T010000
END:STANDARD
BEGIN:DAYLIGHT
TZOFFSETFROM:+0100
TZOFFSETTO:+0200
TZNAME:CEST
DTSTART:20250330T010000
END:DAYLIGHT
BEGIN:STANDARD
TZOFFSETFROM:+0200
TZOFFSETTO:+0100
TZNAME:CET
DTSTART:20251026T010000
END:STANDARD
BEGIN:DAYLIGHT
TZOFFSETFROM:+0100
TZOFFSETTO:+0200
TZNAME:CEST
DTSTART:20260329T010000
END:DAYLIGHT
BEGIN:STANDARD
TZOFFSETFROM:+0200
TZOFFSETTO:+0100
TZNAME:CET
DTSTART:20261025T010000
END:STANDARD
BEGIN:DAYLIGHT
TZOFFSETFROM:+0100
TZOFFSETTO:+0200
TZNAME:CEST
DTSTART:20270328T010000
END:DAYLIGHT
BEGIN:STANDARD
TZOFFSETFROM:+0200
TZOFFSETTO:+0100
TZNAME:CET
DTSTART:20271031T010000
END:STANDARD
END:VTIMEZONE
BEGIN:VEVENT
DTSTART;VALUE=DATE:20250908
DTEND;VALUE=DATE:20260627
DTSTAMP:20260420T221815
CREATED:20250723T092615Z
LAST-MODIFIED:20250723T092735Z
UID:10060-1757289600-1782518399@lucreziadifrancesco.com
SUMMARY:Calendario Attività 2025/2026
DESCRIPTION:Scuola Le Ali della Vita – Metodo ARKA \nDiretto da Lucrezia Di Francesco \nRitrova te stesso attraverso l’arte\, la creatività e il potere trasformativo dell’immaginazione.\nLa Scuola Le Ali della Vita – Metodo ARKA propone per l’anno 2025/2026 un ricco calendario di corsi e percorsi dedicati a bambini\, ragazzi e adulti.\nAttività in presenza e online\, pensate per stimolare la crescita personale\, l’espressione autentica e la consapevolezza interiore attraverso l’arte. \n✨ Tema dell’anno:\nTutti i percorsi di quest’anno lavoreranno con gli archetipi e i simboli ispirati ad Alice nel Paese delle Meraviglie: un viaggio immaginifico e trasformativo tra meraviglia\, identità e cambiamento.\nFa eccezione il percorso “Radici e Rinascita”\, che seguirà un cammino a parte\, legato al mondo delle fiabe e degli archetipi tradizionali. \n  \n CORSI ADULTI \n Corso Pratico – In presenza\nInizio: 8 Settembre 2025\nOgni lunedì e giovedì\, dalle 15:30 alle 19:30\nUn percorso esperienziale e laboratoriale per risvegliare la creatività attraverso il fare artistico. \n Corso Teorico – “Oltre lo Specchio: un Viaggio nella Magia dell’Arte”\nInizio: 10 Settembre 2025\nOnline – 1 mercoledì al mese\, dalle 21:00 alle 22:00\n10 incontri per riflettere sull’arte come linguaggio simbolico e strumento di trasformazione interiore. \n Radici e Rinascita – Un Viaggio Interiore tra Fiabe\, Archetipi e Creatività\n1 martedì al mese\, dalle 18:00 alle 20:00\nOnline – 10 incontri\nUn percorso narrativo e simbolico per riscoprire il proprio mondo interiore attraverso fiabe e linguaggi creativi.\nQuesto percorso seguirà un filone tematico indipendente\, distinto da quello ispirato ad Alice. \n Corso Personalizzato – Online\nSu appuntamento concordato\nPercorsi individuali o in piccoli gruppi\, con contenuti flessibili e orari personalizzati. \n  \n CORSI RAGAZZI \nInizio: 10 Settembre 2025\nOgni mercoledì\, dalle 16:30 alle 18:30\nLaboratori creativi per stimolare l’immaginazione\, la manualità e l’espressione emotiva nei ragazzi. \n  \n CORSI BAMBINI \nInizio: 9 Settembre 2025\nAttività ludico-espressive pensate per i più piccoli: \n\nGruppo 1 – Ogni martedì\, dalle 15:30 alle 17:00\nGruppo 2 – Ogni mercoledì\, dalle 15:00 alle 16:30\n\n  \n✨ Vuoi fare una lezione di prova gratuita? \nScrivimi su WhatsApp: 327 691 2708\nScopri di più sul sito: www.lucreziadifrancesco.com \n  \n Diventa l’opera d’arte che sei destinato ad essere. \nCon la Scuola Le Ali della Vita – Metodo ARKA
URL:https://lucreziadifrancesco.com/event/calendario-attivita-2025-2026/
LOCATION:Laboratorio della Maestra Lucrezia Di Francesco\, Via Abruzzo 123\, Silvi\, Teramo\, 64029\, Italia
CATEGORIES:Eventi Le Ali della Vita
ATTACH;FMTTYPE=image/png:https://lucreziadifrancesco.com/wp-content/uploads/2025/07/13.png
END:VEVENT
BEGIN:VEVENT
DTSTART;TZID=Europe/Rome:20260113T203000
DTEND;TZID=Europe/Rome:20260113T220000
DTSTAMP:20260420T221815
CREATED:20251009T093934Z
LAST-MODIFIED:20251009T094440Z
UID:10188-1768336200-1768341600@lucreziadifrancesco.com
SUMMARY:Radici e Rinascita
DESCRIPTION:“I VOLTI DEL PADRE E DELLA MADRE” \nUltima Lezione – 13 Gennaio 2025\nL’Angelus di Millet\nIl Genitore Spirituale \nIl Compimento del Viaggio \nDalle 20:30 alle 22:00 concluderemo questo straordinario percorso con la più dolce e profonda delle trasformazioni. Dopo aver attraversato l’Ideale\, il Terreno e l’Ombra\, è giunto il momento di incontrare il Genitore Spirituale.\nIn questa serata finale\, tutto si ricompone in una nuova consapevolezza che porterai con te per sempre. \nLa Preghiera che Guarisce \nL’Angelus di Millet cattura un momento sospeso nel tempo: due contadini che interrompono il lavoro nei campi per rispondere al richiamo della campana della sera\, in un atto di devozione semplice e profonda. \nÈ l’immagine perfetta del Genitore Spirituale – quella parte di noi che sa prendersi cura con sacralità\, che nutre con presenza e che ama incondizionatamente. \nDalla Ferita alla Benedizione \nDopo aver attraversato le profondità dell’ombra familiare\, questa serata ti riconnetterà con:\n–Il sacro nell’ordinario – Come trasformare ogni gesto di cura in preghiera\n–La genitorialità interiore – Come diventare per te stesso il genitore che hai sempre desiderato\n–La benedizione del lignaggio – Come onorare chi ti ha preceduto\, indipendentemente dalle ferite\n–La trasmissione consapevole – Come spezzare i pattern negativi e trasmettere solo amore \nProgramma della Serata \nAnalisi dell’Opera d’Arte\nScopri la spiritualità nascosta nei gesti quotidiani e nella bellezza della semplicità\nMeditazione degli Archetipi\nRisveglia il tuo Genitore Spirituale interiore e impara ad amarti incondizionatamente\nEsercizi di Arteterapia\nCrea la tua “preghiera artistica” per sigillare le trasformazioni del percorso\nCostellazioni Familiari Simboliche\nBenedici il tuo lignaggio e libera l’amore che sempre c’è stato\, oltre le forme \nUn Nuovo Inizio\nQuesta non è solo la fine di un corso\, ma l’inizio di una nuova relazione con te stesso e con le tue origini.\nUscirai da questa serata con:\n-Una nuova comprensione dei tuoi genitori e delle loro fatiche\n-Strumenti concreti per essere il genitore di te stesso\n-Un cuore riconciliato con la tua storia familiare\n-La capacità di benedire anziché giudicare\n-Una spiritualità pratica da vivere ogni giorno \nInvestimento per la Tua Trasformazione \nSingola Lezione: €28\nSe hai fatto tutto il percorso: Hai già investito in una delle trasformazioni più profonde della tua vita\nSe questa è la tua prima volta: Considera che potresti sentirti un po’ “spaesato” senza aver attraversato le fasi precedenti \nIl Miracolo della Riconciliazione \nL’Angelus non è solo un dipinto religioso: è l’immagine di due persone che sanno fermarsi\, onorare qualcosa di più grande di loro\, e riconoscere il sacro nella vita quotidiana. \nÈ questo il dono che porterai nel mondo:\n-La capacità di vedere il sacro nell’ordinario\n-L’arte di trasformare ogni relazione in un atto d’amore\n-La saggezza di onorare le tue radici pur restando libero\n-La forza di spezzare le catene e trasmettere solo benedizioni \nLa Tua Guida\nLucrezia Di Francesco \nMaestra d’Arte • Arteterapeuta • Costellatrice Familiare\nTi accompagnerà in questa ultima\, dolcissima trasformazione con tutto l’amore e la presenza che meriti. \nUn Rito di Passaggio \nQuesta serata sarà anche un vero e proprio rito di passaggio. Celebrerai la fine di un’era della tua vita e l’inizio di una nuova consapevolezza. \nPRENOTA IL TUO POSTO PER IL COMPIMENTO\nPOSTI LIMITATI\nChiama ora: 327.691.2708 \nIl Dono che Ti Meriti \n“Alla fine del viaggio più difficile\, ci aspetta sempre\nla grazia.” \nDopo aver attraversato ideali\, realtà e ombre\, è tempo di ricevere il dono più grande: la pace con le tue origini e l’amore incondizionato per te stesso.\nTi aspetta la benedizione che hai sempre cercato. \nBenvenuto nella Tua Nuova Vita\nDove ogni giorno può diventare una preghiera d’amore.
URL:https://lucreziadifrancesco.com/event/radici-e-rinascita-3/
LOCATION:Zoom
CATEGORIES:Eventi Le Ali della Vita
ATTACH;FMTTYPE=image/jpeg:https://lucreziadifrancesco.com/wp-content/uploads/2025/10/LAngelus-di-Millet-1-.jpg
END:VEVENT
BEGIN:VEVENT
DTSTART;TZID=Europe/Rome:20260114T210000
DTEND;TZID=Europe/Rome:20260114T220000
DTSTAMP:20260420T221815
CREATED:20250723T100254Z
LAST-MODIFIED:20250723T100254Z
UID:10101-1768424400-1768428000@lucreziadifrancesco.com
SUMMARY:Il Tè del Cappellaio Matto
DESCRIPTION:Quinto incontro del percorso “Oltre lo Specchio” \nUn invito a rompere le regole\, lasciare andare la logica e abbracciare il potere liberatorio della creatività senza filtri. \n Tema del mese: \nL’irrazionalità e la libertà creativa\nIspirandoci alla figura del Cappellaio Matto\, ci addentreremo nel mondo dell’assurdo\, dove l’espressione autentica non ha bisogno di senso\, ma solo di verità interiore. Un’esperienza per liberarsi dai condizionamenti e riscoprire la gioia del creare. \n‍♀️ Meditazione Archetipica \nGuidati dal simbolo del Cappellaio\, esploreremo durante la meditazione i blocchi familiari e sociali che frenano la nostra espressione. Dopo il viaggio interiore\, ogni partecipante realizzerà un disegno infantile che rappresenti la propria creatività spontanea\, folle\, libera. \n Parte artistica \nRealizzeremo scene bizzarre e surreali attraverso collage\, tecniche miste e materiali riciclati. Il focus sarà sull’improvvisazione\, il gioco e l’accoglienza dell’assurdo come parte integrante del nostro potenziale creativo. \n Lettura simbolica \nLa tavola del tè del Cappellaio Matto è un luogo dove il tempo si ferma e le regole svaniscono. Questo incontro è il tuo spazio per sperimentare senza giudizio e vivere l’arte come espressione senza limiti. \n  \n Informazioni pratiche per questo incontro \n Il corso si svolge online sulla piattaforma Discord\n Se sei iscritto al corso di pittura adulti\, questa lezione è già compresa nella tua mensilità.\n‍♂️ Se vuoi partecipare solo alla parte teorica (meditazione + lettura simbolica)\, puoi farlo anche singolarmente:\n Costo per incontro singolo: 30 € \n Per info e prenotazioni scrivimi su WhatsApp al 327 691 2708
URL:https://lucreziadifrancesco.com/event/il-te-del-cappellaio-matto/
LOCATION:Discord
CATEGORIES:Eventi Le Ali della Vita
ATTACH;FMTTYPE=image/png:https://lucreziadifrancesco.com/wp-content/uploads/2025/07/5-2.png
END:VEVENT
END:VCALENDAR