BEGIN:VCALENDAR
VERSION:2.0
PRODID:-//&quot;LE ALI DELLA VITA&quot; DI LUCREZIA DI FRANCESCO - ECPv6.15.18//NONSGML v1.0//EN
CALSCALE:GREGORIAN
METHOD:PUBLISH
X-WR-CALNAME:&quot;LE ALI DELLA VITA&quot; DI LUCREZIA DI FRANCESCO
X-ORIGINAL-URL:https://lucreziadifrancesco.com
X-WR-CALDESC:Eventi per &quot;LE ALI DELLA VITA&quot; DI LUCREZIA DI FRANCESCO
REFRESH-INTERVAL;VALUE=DURATION:PT1H
X-Robots-Tag:noindex
X-PUBLISHED-TTL:PT1H
BEGIN:VTIMEZONE
TZID:Europe/Rome
BEGIN:DAYLIGHT
TZOFFSETFROM:+0100
TZOFFSETTO:+0200
TZNAME:CEST
DTSTART:20240331T010000
END:DAYLIGHT
BEGIN:STANDARD
TZOFFSETFROM:+0200
TZOFFSETTO:+0100
TZNAME:CET
DTSTART:20241027T010000
END:STANDARD
BEGIN:DAYLIGHT
TZOFFSETFROM:+0100
TZOFFSETTO:+0200
TZNAME:CEST
DTSTART:20250330T010000
END:DAYLIGHT
BEGIN:STANDARD
TZOFFSETFROM:+0200
TZOFFSETTO:+0100
TZNAME:CET
DTSTART:20251026T010000
END:STANDARD
BEGIN:DAYLIGHT
TZOFFSETFROM:+0100
TZOFFSETTO:+0200
TZNAME:CEST
DTSTART:20260329T010000
END:DAYLIGHT
BEGIN:STANDARD
TZOFFSETFROM:+0200
TZOFFSETTO:+0100
TZNAME:CET
DTSTART:20261025T010000
END:STANDARD
BEGIN:DAYLIGHT
TZOFFSETFROM:+0100
TZOFFSETTO:+0200
TZNAME:CEST
DTSTART:20270328T010000
END:DAYLIGHT
BEGIN:STANDARD
TZOFFSETFROM:+0200
TZOFFSETTO:+0100
TZNAME:CET
DTSTART:20271031T010000
END:STANDARD
END:VTIMEZONE
BEGIN:VEVENT
DTSTART;VALUE=DATE:20250908
DTEND;VALUE=DATE:20260627
DTSTAMP:20260420T191118
CREATED:20250723T092615Z
LAST-MODIFIED:20250723T092735Z
UID:10060-1757289600-1782518399@lucreziadifrancesco.com
SUMMARY:Calendario Attività 2025/2026
DESCRIPTION:Scuola Le Ali della Vita – Metodo ARKA \nDiretto da Lucrezia Di Francesco \nRitrova te stesso attraverso l’arte\, la creatività e il potere trasformativo dell’immaginazione.\nLa Scuola Le Ali della Vita – Metodo ARKA propone per l’anno 2025/2026 un ricco calendario di corsi e percorsi dedicati a bambini\, ragazzi e adulti.\nAttività in presenza e online\, pensate per stimolare la crescita personale\, l’espressione autentica e la consapevolezza interiore attraverso l’arte. \n✨ Tema dell’anno:\nTutti i percorsi di quest’anno lavoreranno con gli archetipi e i simboli ispirati ad Alice nel Paese delle Meraviglie: un viaggio immaginifico e trasformativo tra meraviglia\, identità e cambiamento.\nFa eccezione il percorso “Radici e Rinascita”\, che seguirà un cammino a parte\, legato al mondo delle fiabe e degli archetipi tradizionali. \n  \n CORSI ADULTI \n Corso Pratico – In presenza\nInizio: 8 Settembre 2025\nOgni lunedì e giovedì\, dalle 15:30 alle 19:30\nUn percorso esperienziale e laboratoriale per risvegliare la creatività attraverso il fare artistico. \n Corso Teorico – “Oltre lo Specchio: un Viaggio nella Magia dell’Arte”\nInizio: 10 Settembre 2025\nOnline – 1 mercoledì al mese\, dalle 21:00 alle 22:00\n10 incontri per riflettere sull’arte come linguaggio simbolico e strumento di trasformazione interiore. \n Radici e Rinascita – Un Viaggio Interiore tra Fiabe\, Archetipi e Creatività\n1 martedì al mese\, dalle 18:00 alle 20:00\nOnline – 10 incontri\nUn percorso narrativo e simbolico per riscoprire il proprio mondo interiore attraverso fiabe e linguaggi creativi.\nQuesto percorso seguirà un filone tematico indipendente\, distinto da quello ispirato ad Alice. \n Corso Personalizzato – Online\nSu appuntamento concordato\nPercorsi individuali o in piccoli gruppi\, con contenuti flessibili e orari personalizzati. \n  \n CORSI RAGAZZI \nInizio: 10 Settembre 2025\nOgni mercoledì\, dalle 16:30 alle 18:30\nLaboratori creativi per stimolare l’immaginazione\, la manualità e l’espressione emotiva nei ragazzi. \n  \n CORSI BAMBINI \nInizio: 9 Settembre 2025\nAttività ludico-espressive pensate per i più piccoli: \n\nGruppo 1 – Ogni martedì\, dalle 15:30 alle 17:00\nGruppo 2 – Ogni mercoledì\, dalle 15:00 alle 16:30\n\n  \n✨ Vuoi fare una lezione di prova gratuita? \nScrivimi su WhatsApp: 327 691 2708\nScopri di più sul sito: www.lucreziadifrancesco.com \n  \n Diventa l’opera d’arte che sei destinato ad essere. \nCon la Scuola Le Ali della Vita – Metodo ARKA
URL:https://lucreziadifrancesco.com/event/calendario-attivita-2025-2026/
LOCATION:Laboratorio della Maestra Lucrezia Di Francesco\, Via Abruzzo 123\, Silvi\, Teramo\, 64029\, Italia
CATEGORIES:Eventi Le Ali della Vita
ATTACH;FMTTYPE=image/png:https://lucreziadifrancesco.com/wp-content/uploads/2025/07/13.png
END:VEVENT
BEGIN:VEVENT
DTSTART;TZID=Europe/Rome:20260311T210000
DTEND;TZID=Europe/Rome:20260311T220000
DTSTAMP:20260420T191118
CREATED:20250723T100752Z
LAST-MODIFIED:20250723T100752Z
UID:10110-1773262800-1773266400@lucreziadifrancesco.com
SUMMARY:Il Giardino dei Fiori Parlanti
DESCRIPTION:Settimo incontro del percorso “Oltre lo Specchio” \nUn momento di ascolto sottile\, per riconnetterci con la natura e con la nostra essenza più autentica\, attraverso i messaggi delicati dei fiori. \n Tema del mese: \nLa comunicazione con la natura e l’essenza interiore\nIspirati dai fiori parlanti del mondo di Alice\, ci immergeremo in un dialogo simbolico con la natura. Questo incontro ci invita ad ascoltare la voce del cuore e a dare forma visiva alla nostra verità interiore. \n‍♀️ Meditazione Archetipica \nI fiori saranno il nostro archetipo guida. Durante la meditazione\, entreremo in contatto con il nostro “fiore interiore”\, simbolo di verità\, delicatezza e autenticità. Dopo la meditazione\, ciascun partecipante realizzerà un disegno infantile che rappresenti la propria essenza più pura in dialogo con il mondo naturale. \n Parte artistica \nRealizzeremo composizioni su tela con fiori simbolici e messaggi nascosti nei petali\, utilizzando materiali naturali come foglie\, semi e petali veri. Un lavoro che unisce arte e natura in un’espressione sensibile e profonda. \n Lettura simbolica \nI fiori parlanti di Alice ci ricordano che ogni essere ha una voce\, anche se sottile. Questo incontro è un’occasione per ascoltare la natura dentro e fuori di noi\, e lasciarla parlare attraverso l’arte. \n  \n Informazioni pratiche per questo incontro \n Il corso si svolge online sulla piattaforma Discord\n Se sei iscritto al corso di pittura adulti\, questa lezione è già compresa nella tua mensilità.\n‍♂️ Se vuoi partecipare solo alla parte teorica (meditazione + lettura simbolica)\, puoi farlo anche singolarmente:\n Costo per incontro singolo: 30 € \n Per info e prenotazioni scrivimi su WhatsApp al 327 691 2708
URL:https://lucreziadifrancesco.com/event/il-giardino-dei-fiori-parlanti/
LOCATION:Discord
CATEGORIES:Eventi Le Ali della Vita
ATTACH;FMTTYPE=image/png:https://lucreziadifrancesco.com/wp-content/uploads/2025/07/7-1.png
END:VEVENT
BEGIN:VEVENT
DTSTART;VALUE=DATE:20260321
DTEND;VALUE=DATE:20260329
DTSTAMP:20260420T191118
CREATED:20251009T095920Z
LAST-MODIFIED:20251009T100422Z
UID:10203-1774051200-1774742399@lucreziadifrancesco.com
SUMMARY:Le Fiabe
DESCRIPTION:Un viaggio dentro di noi\nMostra Finale del Percorso Formativo 2024/25 \nUn’Esperienza Artistica Unica\nDal 21 al 28 marzo 2025\, il Museo d’Arte Costantino Barbella di Chieti ospiterà una mostra\nstraordinaria che celebra il potere trasformativo dell’arte e delle fiabe nella crescita personale.\n“Le Fiabe – Un viaggio dentro di noi” rappresenta il culmine di un anno di lavoro intenso e\nappassionato della Scuola della Maestra Lucrezia Di Francesco e del percorso formativo “Le Ali\ndella Vita“. \nCosa Troverai alla Mostra \nOpere d’Arte Originali\nLe creazioni artistiche nate dal cuore e dall’anima degli allievi\, ispirate alle fiabe più profonde e significative della tradizione mondiale.\nUn Viaggio Simbolico\nOgni opera racconta una storia di trasformazione personale\, dove i simboli delle fiabe diventano chiavi per comprendere il proprio mondo interiore.\nArte per Tutte le Età\nEsposti lavori di adulti\, ragazzi e bambini – una testimonianza di come l’arte possa essere linguaggio universale di crescita e espressione.\nCura Critica d’Eccellenza\nLa mostra è curata dal prestigioso critico d’arte Massimo Pasqualone\, che ha saputo valorizzare ogni opera nel suo significato più profondo. \nLocation d’Eccellenza \nMuseo d’Arte Costantino Barbella\nVia Cesare de Lollis\, 10\n66100 Chieti (CH)\nUn luogo ricco di storia e bellezza\, che fa da cornice perfetta a questa celebrazione dell’arte come\nstrumento di conoscenza interiore. \nQuando Visitarci \nDal 21 al 28 marzo 2025\nOrari di apertura e dettagli specifici verranno comunicati prossimamente \nPerché Visitare la Mostra \nPer gli Amanti dell’Arte\nScopri come l’arte contemporanea può dialogare con la tradizione fiabesca creando linguaggi espressivi innovativi.\nPer le Famiglie\nUn’esperienza educativa unica dove bambini e adulti possono esplorare insieme il significato profondo delle fiabe attraverso l’arte.\nPer Chi Cerca Ispirazione\nLasciati ispirare dalle storie di trasformazione personale che ogni opera racconta.\nPer la Comunità\nCelebra il talento locale e scopri come l’arte possa essere strumento di crescita collettiva. \nIl Metodo “Le Ali della Vita”\nQuesta mostra è la testimonianza tangibile dell’efficacia del Metodo Arka sviluppato da Lucrezia Di Francesco\, che utilizza:\n–Arteterapia per l’espressione emotiva\n–Simbolismo fiabesco per la comprensione interiore\n–Creatività come strumento di trasformazione\n–Condivisione per la crescita collettiva \nUna Comunità Artistica \n“Le Fiabe – Un viaggio dentro di noi” non è solo una mostra\, ma la celebrazione di una comunità di persone che hanno scelto l’arte come via di crescita personale.\nOgni visitatore avrà l’opportunità di:\n-Conoscere le storie dietro ogni opera\n-Comprendere il potere trasformativo delle fiabe\n-Scoprire come l’arte possa essere accessibile a tutti\n-Lasciarsi ispirare per il proprio percorso creativo \nInformazioni \nPer informazioni sulla mostra e sugli eventi collegati:\nContatta Lucrezia Di Francesco: 327.691.2708 \nUn Invito Speciale\nTi aspettiamo per condividere insieme la magia che nasce quando l’arte incontra il cuore.\nVieni a scoprire come ogni fiaba può diventare una chiave per aprire le porte del tuo mondo\ninteriore.\n “Ogni opera è una fiaba\, ogni fiaba è un viaggio\, ogni viaggio è una trasformazione.”\nDal 21 al 28 marzo 2025 – Museo Costantino Barbella\, Chieti\nL’arte che trasforma\, le fiabe che guariscono\, le persone che crescono insieme.
URL:https://lucreziadifrancesco.com/event/le-fiabe/
LOCATION:Museo d’Arte Costantino Barbella\, Via Cesare de Lollis\, 10\, Chieti\, CH\, 66100\, Italy
CATEGORIES:Eventi Le Ali della Vita
ATTACH;FMTTYPE=image/jpeg:https://lucreziadifrancesco.com/wp-content/uploads/2025/10/Le-Fiabe-.jpg
END:VEVENT
END:VCALENDAR