BEGIN:VCALENDAR
VERSION:2.0
PRODID:-//&quot;LE ALI DELLA VITA&quot; DI LUCREZIA DI FRANCESCO - ECPv6.15.18//NONSGML v1.0//EN
CALSCALE:GREGORIAN
METHOD:PUBLISH
X-ORIGINAL-URL:https://lucreziadifrancesco.com
X-WR-CALDESC:Eventi per &quot;LE ALI DELLA VITA&quot; DI LUCREZIA DI FRANCESCO
REFRESH-INTERVAL;VALUE=DURATION:PT1H
X-Robots-Tag:noindex
X-PUBLISHED-TTL:PT1H
BEGIN:VTIMEZONE
TZID:Europe/Rome
BEGIN:DAYLIGHT
TZOFFSETFROM:+0100
TZOFFSETTO:+0200
TZNAME:CEST
DTSTART:20250330T010000
END:DAYLIGHT
BEGIN:STANDARD
TZOFFSETFROM:+0200
TZOFFSETTO:+0100
TZNAME:CET
DTSTART:20251026T010000
END:STANDARD
BEGIN:DAYLIGHT
TZOFFSETFROM:+0100
TZOFFSETTO:+0200
TZNAME:CEST
DTSTART:20260329T010000
END:DAYLIGHT
BEGIN:STANDARD
TZOFFSETFROM:+0200
TZOFFSETTO:+0100
TZNAME:CET
DTSTART:20261025T010000
END:STANDARD
BEGIN:DAYLIGHT
TZOFFSETFROM:+0100
TZOFFSETTO:+0200
TZNAME:CEST
DTSTART:20270328T010000
END:DAYLIGHT
BEGIN:STANDARD
TZOFFSETFROM:+0200
TZOFFSETTO:+0100
TZNAME:CET
DTSTART:20271031T010000
END:STANDARD
END:VTIMEZONE
BEGIN:VEVENT
DTSTART;TZID=Europe/Rome:20261014T210000
DTEND;TZID=Europe/Rome:20261014T223000
DTSTAMP:20260421T003210
CREATED:20260209T100846Z
LAST-MODIFIED:20260223T160634Z
UID:10390-1792011600-1792017000@lucreziadifrancesco.com
SUMMARY:I Fili Invisibili
DESCRIPTION:Il Bambino Controllato dalle Dinamiche Familiari\n14 Ottobre 2026 | Secondo Incontro Online del Percorso “Oltre i Fili”\nRiconoscere le lealtà che ci tengono prigionieri \n  \nPinocchio è un burattino. Ogni suo movimento dipende dai fili che qualcun altro tiene in mano. Non può scegliere dove andare\, come muoversi\, quando fermarsi. La sua libertà è un’illusione: danza quando il burattinaio lo comanda\, anche se è stanco. Sorride quando deve intrattenere\, anche se è triste. \nAnche noi portiamo fili invisibili. Fili di lealtà familiare\, di senso di colpa\, di aspettative non dette. Ci muoviamo secondo copioni scritti da altri\, tradiamo noi stessi per restare fedeli a dinamiche che non abbiamo scelto. E spesso non vediamo nemmeno chi tiene i fili. \nIl Percorso della Serata \nIn questo secondo incontro del ciclo Oltre i Fili\, esploreremo le dinamiche di controllo familiare che ci mantengono burattini inconsapevoli. Attraverso il Metodo ArKa e l’integrazione con le costellazioni familiari secondo Hellinger\, porteremo alla luce le lealtà invisibili che governano le nostre scelte. \nDurante l’incontro scoprirai: \n\nChi tira ancora i fili del tuo bambino interiore attraverso esercizi corporei\nLe lealtà invisibili che ti tengono legato tradendo te stesso\nCome riconoscere i fili materni\, paterni e transgenerazionali che ti controllano\nDove diventi “merce delle aspettative” vendendo la tua autenticità\n\nAttraverso esercizi di movimento consapevole\, meditazione archetipica sul Teatro di Mangiafuoco\, e una costellazione breve “I fili della famiglia”\, vedremo chi controlla e chi è controllato nelle tue dinamiche relazionali. \nCosa Porterai Con Te \nVisibilità sui fili invisibili che guidano le tue scelte inconsapevoli\nRiconoscimento delle maschere che indossi per soddisfare aspettative altrui Coraggio di nominare le lealtà che ti costringono a tradire te stesso\nMappa personale dei fili emotivi che ti legano (amore\, controllo\, colpa\, paura)\nPossibilità di tagliare ritualmente i fili che non ti servono più\nLiberazione dall’obbligo di danzare secondo copioni familiari non tuoi \nA Chi È Dedicato \nPer chi sente di non riuscire a scegliere liberamente\, anche da adulto. Per chi percepisce dinamiche di controllo sottile nelle relazioni familiari. Per chi vuole smettere di essere merce delle aspettative altrui e riprendersi la propria autodeterminazione. \n  \nInformazioni Pratiche \nQuando: Mercoledì 14 Ottobre 2026\nOrario:21:oo h ]\nDove: Online su Zoom\nDurata: 1h 30min \nPartecipazione singola serata: €30\,00 \n  \nOppure: Partecipa al Percorso Completo “Oltre i Fili” \nQuesto incontro è il secondo di un viaggio trasformativo di 9 mesi che segue Pinocchio dalla rigidità del legno alla libertà del bambino vero. \nIL VALORE REALE: €150\,00/mese per: \n\n13\,5 ore mensili di Arte Terapia con Metodo ArKa\nAccompagnamento personalizzato da Maestra d’Arte qualificata\nIntegrazione di psicologia junghiana e costellazioni familiari\nMeditazioni guidate + gruppo WhatsApp di supporto\nMostra finale delle opere create = €11\,11 per ora di lavoro terapeutico professionale\n\nPER RENDERE ACCESSIBILE QUESTO VIAGGIO: \nTARIFFA GENERALE: €90\,00/mese\n(Sconto del 40% sul valore reale) \nTARIFFA FEDELI: €75\,00/mese\n(Sconto del 50% – per chi ha già frequentato percorsi presso Le Ali della Vita) \n+ Quota iscrizione: €30\,00 una tantum \n“Bambino mio\, io ti libero da ogni filo che non serve più alla tua vita…” \nPer informazioni e iscrizioni: clicca qui
URL:https://lucreziadifrancesco.com/event/i-fili-invisibili/
LOCATION:Zoom
CATEGORIES:Eventi Le Ali della Vita
ATTACH;FMTTYPE=image/jpeg:https://lucreziadifrancesco.com/wp-content/uploads/2026/02/I-Fili-Invisibili.jpg
END:VEVENT
END:VCALENDAR