BEGIN:VCALENDAR
VERSION:2.0
PRODID:-//&quot;LE ALI DELLA VITA&quot; DI LUCREZIA DI FRANCESCO - ECPv6.15.18//NONSGML v1.0//EN
CALSCALE:GREGORIAN
METHOD:PUBLISH
X-ORIGINAL-URL:https://lucreziadifrancesco.com
X-WR-CALDESC:Eventi per &quot;LE ALI DELLA VITA&quot; DI LUCREZIA DI FRANCESCO
REFRESH-INTERVAL;VALUE=DURATION:PT1H
X-Robots-Tag:noindex
X-PUBLISHED-TTL:PT1H
BEGIN:VTIMEZONE
TZID:Europe/Rome
BEGIN:DAYLIGHT
TZOFFSETFROM:+0100
TZOFFSETTO:+0200
TZNAME:CEST
DTSTART:20250330T010000
END:DAYLIGHT
BEGIN:STANDARD
TZOFFSETFROM:+0200
TZOFFSETTO:+0100
TZNAME:CET
DTSTART:20251026T010000
END:STANDARD
BEGIN:DAYLIGHT
TZOFFSETFROM:+0100
TZOFFSETTO:+0200
TZNAME:CEST
DTSTART:20260329T010000
END:DAYLIGHT
BEGIN:STANDARD
TZOFFSETFROM:+0200
TZOFFSETTO:+0100
TZNAME:CET
DTSTART:20261025T010000
END:STANDARD
BEGIN:DAYLIGHT
TZOFFSETFROM:+0100
TZOFFSETTO:+0200
TZNAME:CEST
DTSTART:20270328T010000
END:DAYLIGHT
BEGIN:STANDARD
TZOFFSETFROM:+0200
TZOFFSETTO:+0100
TZNAME:CET
DTSTART:20271031T010000
END:STANDARD
END:VTIMEZONE
BEGIN:VEVENT
DTSTART;TZID=Europe/Rome:20261210T210000
DTEND;TZID=Europe/Rome:20261210T223000
DTSTAMP:20260421T030600
CREATED:20260209T150202Z
LAST-MODIFIED:20260223T160936Z
UID:10424-1796936400-1796941800@lucreziadifrancesco.com
SUMMARY:La Fata Turchina: La Grande Madre
DESCRIPTION:Il Bambino e l’Archetipo Materno (Nutriente/Divorante) \n10 Dicembre 2026 | Quarto Incontro Online del Percorso “Oltre i Fili”\nTra protezione e prigionia: l’ambiguità dell’amore materno \n  \nLa Fata Turchina salva sempre Pinocchio. Lo accoglie quando è in pericolo\, lo cura quando è malato\, lo perdona quando sbaglia. Ma c’è un prezzo: “Diventerai un bambino vero… se obbedirai. Se sarai bravo. Se non te ne andrai.” \nÈ amore o controllo? È protezione o gabbia dorata? La Fata incarna l’archetipo della Grande Madre nella sua duplice natura: quella che nutre e quella che divora. Quella che accoglie e quella che imprigiona. E Pinocchio\, come ogni bambino\, è intrappolato in questa ambiguità: ha bisogno di lei per sopravvivere\, ma rischia di perdersi se non se ne separa. \nIl Percorso della Serata \nIn questo quarto incontro del ciclo Oltre i Fili\, esploreremo la relazione con l’archetipo materno attraverso la psicologia junghiana e il Metodo ArKa. Porteremo alla luce sia il volto luminoso della madre che nutre\, sia il volto oscuro della madre che soffoca\, comprendendo come entrambi vivano nelle nostre dinamiche relazionali. \nDurante l’incontro scoprirai: \n\nDi quale madre ha veramente bisogno il tuo bambino interiore\nCome è stata la tua relazione con il materno (reale e archetipico)\nLa differenza tra amore incondizionato e ricatto affettivo mascherato da protezione\nCome riconoscere quando l’abbraccio materno diventa prigione\nQuali dinamiche di dipendenza emotiva si ripetono nella tua vita adulta\n\nAttraverso meditazione archetipica nel Castello della Fata\, costellazione familiare “Il bambino e la madre”\, e la creazione di un’opera che rappresenti l’ambiguità dell’abbraccio materno\, esploreremo questa relazione primordiale con onestà e compassione. \nCosa Porterai Con Te \nRiconoscimento dei due volti dell’amore materno: quello che libera e quello che imprigiona\nConsapevolezza dei ricatti affettivi subiti mascherati da protezione\nLibertà di vedere l’ambiguità senza colpevolizzare né idealizzare\nEquilibrio tra gratitudine per ciò che hai ricevuto e diritto a separarti\nPermesso di crescere oltre il bisogno di essere “bravo” per essere amato\nRituale di separazione amorevole: prendere il dono\, lasciare il peso \nA Chi È Dedicato \nPer chi sente ancora la fame di una madre che non ha avuto. Per chi è stato salvato ma anche soffocato. Per chi porta il senso di colpa di voler andare via. Per chi ripete dinamiche di dipendenza affettiva. Per chi vuole finalmente separarsi con amore\, non con rabbia. \nInformazioni Pratiche \nQuando: Giovedì 10 Dicembre 2026\nOrario: [inserire orario]\nDove: Online su Zoom\nDurata: 1h 30min \nPartecipazione singola serata: €30\,00 \nOppure: Partecipa al Percorso Completo “Oltre i Fili” \nQuesto incontro è il quarto di un viaggio trasformativo di 9 mesi che segue Pinocchio dalla rigidità del legno alla libertà del bambino vero. \nIL VALORE REALE: €150\,00/mese per: \n\n13\,5 ore mensili di Arte Terapia con Metodo ArKa\nAccompagnamento personalizzato da Maestra d’Arte qualificata\nIntegrazione di psicologia junghiana e costellazioni familiari\nMeditazioni guidate + gruppo WhatsApp di supporto\nMostra finale delle opere create = €11\,11 per ora di lavoro terapeutico professionale\n\nPER RENDERE ACCESSIBILE QUESTO VIAGGIO: \nTARIFFA GENERALE: €90\,00/mese\n(Sconto del 40% sul valore reale) \nTARIFFA FEDELI: €75\,00/mese\n(Sconto del 50% – per chi ha già frequentato percorsi presso Le Ali della Vita) \n+ Quota iscrizione: €30\,00 una tantum \n“Cara madre\, io prendo ciò che mi hai dato\, il resto lo lascio a te con amore…” \nPer informazioni e iscrizioni: clicca qui
URL:https://lucreziadifrancesco.com/event/la-fata-turchina-la-grande-madre/
LOCATION:Zoom
CATEGORIES:Eventi Le Ali della Vita
ATTACH;FMTTYPE=image/jpeg:https://lucreziadifrancesco.com/wp-content/uploads/2026/02/La-Fata-Turchina-La-Grande-Madre-1.jpg
END:VEVENT
END:VCALENDAR