BEGIN:VCALENDAR
VERSION:2.0
PRODID:-//&quot;LE ALI DELLA VITA&quot; DI LUCREZIA DI FRANCESCO - ECPv6.15.18//NONSGML v1.0//EN
CALSCALE:GREGORIAN
METHOD:PUBLISH
X-ORIGINAL-URL:https://lucreziadifrancesco.com
X-WR-CALDESC:Eventi per &quot;LE ALI DELLA VITA&quot; DI LUCREZIA DI FRANCESCO
REFRESH-INTERVAL;VALUE=DURATION:PT1H
X-Robots-Tag:noindex
X-PUBLISHED-TTL:PT1H
BEGIN:VTIMEZONE
TZID:Europe/Rome
BEGIN:DAYLIGHT
TZOFFSETFROM:+0100
TZOFFSETTO:+0200
TZNAME:CEST
DTSTART:20260329T010000
END:DAYLIGHT
BEGIN:STANDARD
TZOFFSETFROM:+0200
TZOFFSETTO:+0100
TZNAME:CET
DTSTART:20261025T010000
END:STANDARD
BEGIN:DAYLIGHT
TZOFFSETFROM:+0100
TZOFFSETTO:+0200
TZNAME:CEST
DTSTART:20270328T010000
END:DAYLIGHT
BEGIN:STANDARD
TZOFFSETFROM:+0200
TZOFFSETTO:+0100
TZNAME:CET
DTSTART:20271031T010000
END:STANDARD
BEGIN:DAYLIGHT
TZOFFSETFROM:+0100
TZOFFSETTO:+0200
TZNAME:CEST
DTSTART:20280326T010000
END:DAYLIGHT
BEGIN:STANDARD
TZOFFSETFROM:+0200
TZOFFSETTO:+0100
TZNAME:CET
DTSTART:20281029T010000
END:STANDARD
END:VTIMEZONE
BEGIN:VEVENT
DTSTART;TZID=Europe/Rome:20270113T210000
DTEND;TZID=Europe/Rome:20270113T223000
DTSTAMP:20260421T041857
CREATED:20260209T144642Z
LAST-MODIFIED:20260223T160158Z
UID:10405-1799874000-1799879400@lucreziadifrancesco.com
SUMMARY:Il Gatto e la Volpe: Gli Ingannatori
DESCRIPTION:Il Bambino che Attira Chi Lo Tradisce (Coazione a Ripetere) \n13 Gennaio 2027 | Quinto Incontro Online del Percorso “Oltre i Fili”\nQuando ripetiamo il tradimento cercando di guarirlo \nIl Gatto e la Volpe promettono a Pinocchio ricchezze facili. Basta seppellire le monete nel Campo dei Miracoli e cresceranno alberi d’oro. Pinocchio ci crede\, anche se qualcosa dentro di lui sa che è una bugia. Ci crede perché vuole credere. Perché ha fame di qualcosa che quegli ingannatori sembrano promettergli. \nAnche noi ripetiamo lo stesso schema: attiriamo chi ci tradisce\, ci fidiamo di chi non dovremmo\, ignoriamo i segnali d’allarme che il nostro bambino interiore percepisce. Non è ingenuità\, è coazione a ripetere. Cerchiamo inconsciamente di rivivere il tradimento originale\, sperando questa volta di cambiarne il finale. \nIl Percorso della Serata \nIn questo quinto incontro del ciclo Oltre i Fili\, esploreremo la coazione a ripetere attraverso la psicologia del profondo e il Metodo ArKa. Comprenderemo perché attiriamo sempre gli stessi tipi di persone e quali ferite antiche stiamo cercando di guarire attraverso relazioni che ci feriscono. \nDurante l’incontro scoprirai: \n\nChi hai lasciato entrare nella tua vita che ti ha fatto male\, riconoscendo il pattern\nPerché ripeti sempre le stesse dinamiche relazionali tossiche\nChi nella tua famiglia ti ha tradito per primo\, creando il modello originale\nCosa cerca veramente il tuo bambino interiore nelle false promesse degli altri\nCome riconoscere i “red flags” che avevi visto ma scelto di ignorare\n\nAttraverso meditazione archetipica al Campo dei Miracoli\, lavoro sistemico sul tradimento originario\, e la creazione di un “teatro delle maschere” con i personaggi tossici della tua vita\, porteremo alla luce lo specchio che questi ingannatori ci hanno offerto. \nCosa Porterai Con Te \nRiconoscimento dei pattern relazionali che ripeti compulsivamente\nComprensione del tradimento originario che cerchi di guarire\nConsapevolezza di come proietti la tua Ombra sugli altri\nCapacità di vedere i segnali d’allarme che prima ignoravi\nGratitudine per lo specchio che gli ingannatori ti hanno dato\nContratto di auto-protezione per il tuo bambino interiore \nA Chi È Dedicato \nPer chi si ritrova sempre con le stesse persone tossiche sotto forme diverse. Per chi ignora i segnali rossi sperando che “questa volta sarà diverso”. Per chi vuole spezzare la coazione a ripetere e smettere di attrarre chi lo tradisce. Per chi è pronto a vedere la propria parte nella dinamica. \n  \nInformazioni Pratiche \nQuando: Mercoledì 13 Gennaio 2027\nOrario: 21:00 h\nDove: Online su Zoom\nDurata: 1h 30min \nPartecipazione singola serata: €30\,00 \n  \nOppure: Partecipa al Percorso Completo “Oltre i Fili” \nQuesto incontro è il quinto di un viaggio trasformativo di 9 mesi che segue Pinocchio dalla rigidità del legno alla libertà del bambino vero. \nIL VALORE REALE: €150\,00/mese per: \n\n13\,5 ore mensili di Arte Terapia con Metodo ArKa\nAccompagnamento personalizzato da Maestra d’Arte qualificata\nIntegrazione di psicologia junghiana e costellazioni familiari\nMeditazioni guidate + gruppo WhatsApp di supporto\nMostra finale delle opere create = €11\,11 per ora di lavoro terapeutico professionale\n\nPER RENDERE ACCESSIBILE QUESTO VIAGGIO: \nTARIFFA GENERALE: €90\,00/mese\n(Sconto del 40% sul valore reale) \nTARIFFA FEDELI: €75\,00/mese\n(Sconto del 50% – per chi ha già frequentato percorsi presso Le Ali della Vita) \n+ Quota iscrizione: €30\,00 una tantum \n  \n“Bambino mio\, ora so riconoscere chi ti fa male. Ti prometto di proteggerti…” \nPer informazioni e iscrizioni: clicca qui
URL:https://lucreziadifrancesco.com/event/il-gatto-e-la-volpe-gli-ingannatori/
LOCATION:Zoom
CATEGORIES:Eventi Le Ali della Vita
ATTACH;FMTTYPE=image/jpeg:https://lucreziadifrancesco.com/wp-content/uploads/2026/02/Il-Gatto-e-la-Volpe-Gli-Ingannatori-jpg-1.jpg
END:VEVENT
END:VCALENDAR