BEGIN:VCALENDAR
VERSION:2.0
PRODID:-//&quot;LE ALI DELLA VITA&quot; DI LUCREZIA DI FRANCESCO - ECPv6.15.18//NONSGML v1.0//EN
CALSCALE:GREGORIAN
METHOD:PUBLISH
X-ORIGINAL-URL:https://lucreziadifrancesco.com
X-WR-CALDESC:Eventi per &quot;LE ALI DELLA VITA&quot; DI LUCREZIA DI FRANCESCO
REFRESH-INTERVAL;VALUE=DURATION:PT1H
X-Robots-Tag:noindex
X-PUBLISHED-TTL:PT1H
BEGIN:VTIMEZONE
TZID:Europe/Rome
BEGIN:DAYLIGHT
TZOFFSETFROM:+0100
TZOFFSETTO:+0200
TZNAME:CEST
DTSTART:20220327T010000
END:DAYLIGHT
BEGIN:STANDARD
TZOFFSETFROM:+0200
TZOFFSETTO:+0100
TZNAME:CET
DTSTART:20221030T010000
END:STANDARD
BEGIN:DAYLIGHT
TZOFFSETFROM:+0100
TZOFFSETTO:+0200
TZNAME:CEST
DTSTART:20230326T010000
END:DAYLIGHT
BEGIN:STANDARD
TZOFFSETFROM:+0200
TZOFFSETTO:+0100
TZNAME:CET
DTSTART:20231029T010000
END:STANDARD
BEGIN:DAYLIGHT
TZOFFSETFROM:+0100
TZOFFSETTO:+0200
TZNAME:CEST
DTSTART:20240331T010000
END:DAYLIGHT
BEGIN:STANDARD
TZOFFSETFROM:+0200
TZOFFSETTO:+0100
TZNAME:CET
DTSTART:20241027T010000
END:STANDARD
END:VTIMEZONE
BEGIN:VEVENT
DTSTART;TZID=Europe/Rome:20230618T150000
DTEND;TZID=Europe/Rome:20230618T193000
DTSTAMP:20260424T184809
CREATED:20230612T101740Z
LAST-MODIFIED:20230612T101849Z
UID:6937-1687100400-1687116600@lucreziadifrancesco.com
SUMMARY:NaturGiornalArt
DESCRIPTION:  \nNatural GiornalArte\nI Calanchi e il borgo di Mutignano\nCamminando- Scrivendo – Disegnando \nDomenica 18 Giugno in compagnia di Anna Pavone\, Guida Ambientale \, Francesca Di Giuseppe\, Giornalista e Lucrezia di Francesco\, Maestra d ‘Arte ci trasformeremo in abili escursionisti e reporter. \nCi troveremo 15 minuti prima delle h15:00 di fronte la Chiesa di San Silvestro\, dove Anna illustrerà l’escursione e alle 15:00 partiremo per il nostro viaggio alla scoperte delle meraviglie della nostra terra. \nLa prima parte del pomeriggio sarà dedicata interamente alla scoperta dei calanchi e del borgo antico\nAlle ore 17:00 circa\, faremo una pausa merenda nel parco Castellaro\, dove svolgeremo anche il laboratorio Giornalistico/Artistico\, con Francesca e Lucrezia. \nOBBIETTIVI DELLA GIORNATA\nDiventare per un giorno un Reporter\, un inviato speciale della rivista NaturalGiornalArt\, che scriverà e illustrerà  le magnificenze  naturali/architettonico di un antico borgo della terra d’Abruzzo. \nDA PORTARE PER POTER SVOLGERE IL LABORATORIO\n-Taccuino ;\n-Penna o Matita. \nCONSIGLI\n– Abbigliamento Comodo;\n– Scarpe adatte per camminare;\n– Crema Solare;\n– Telo;\n-Gioia e l’entusiasmo di partecipare. \nPER CHI E’ADATTO? \nPer tutte le persone che vogliono cimentarsi in una nuova esperienza.\nNon richiediamo nessuna preparazione in abito giornalistico ed artistico.\nL’articolo verrà scritto con l’aiuto di Francesca e il disegno sarà simbolico\, come quello dei bambini \nPer Info. E prenotazioni\nAnna Pavone: 3295362360\nFrancesca Di Giuseppe 3395997849\nLucrezia Di Francesco 3276912708 \nNOTA BENE\nL’escursione  verrà svolta a raggiungimento del numero minimo di partecipanti.
URL:https://lucreziadifrancesco.com/event/naturgiornalart/
LOCATION:Chiesa San Silvestro\, Mutignano\, 64025\, Italia
CATEGORIES:Eventi Le Ali della Vita
ATTACH;FMTTYPE=image/jpeg:https://lucreziadifrancesco.com/wp-content/uploads/2023/06/giornalarte-2.jpg
END:VEVENT
END:VCALENDAR