BEGIN:VCALENDAR
VERSION:2.0
PRODID:-//&quot;LE ALI DELLA VITA&quot; DI LUCREZIA DI FRANCESCO - ECPv6.15.18//NONSGML v1.0//EN
CALSCALE:GREGORIAN
METHOD:PUBLISH
X-WR-CALNAME:&quot;LE ALI DELLA VITA&quot; DI LUCREZIA DI FRANCESCO
X-ORIGINAL-URL:https://lucreziadifrancesco.com
X-WR-CALDESC:Eventi per &quot;LE ALI DELLA VITA&quot; DI LUCREZIA DI FRANCESCO
REFRESH-INTERVAL;VALUE=DURATION:PT1H
X-Robots-Tag:noindex
X-PUBLISHED-TTL:PT1H
BEGIN:VTIMEZONE
TZID:Europe/Rome
BEGIN:DAYLIGHT
TZOFFSETFROM:+0100
TZOFFSETTO:+0200
TZNAME:CEST
DTSTART:20220327T010000
END:DAYLIGHT
BEGIN:STANDARD
TZOFFSETFROM:+0200
TZOFFSETTO:+0100
TZNAME:CET
DTSTART:20221030T010000
END:STANDARD
BEGIN:DAYLIGHT
TZOFFSETFROM:+0100
TZOFFSETTO:+0200
TZNAME:CEST
DTSTART:20230326T010000
END:DAYLIGHT
BEGIN:STANDARD
TZOFFSETFROM:+0200
TZOFFSETTO:+0100
TZNAME:CET
DTSTART:20231029T010000
END:STANDARD
BEGIN:DAYLIGHT
TZOFFSETFROM:+0100
TZOFFSETTO:+0200
TZNAME:CEST
DTSTART:20240331T010000
END:DAYLIGHT
BEGIN:STANDARD
TZOFFSETFROM:+0200
TZOFFSETTO:+0100
TZNAME:CET
DTSTART:20241027T010000
END:STANDARD
END:VTIMEZONE
BEGIN:VEVENT
DTSTART;TZID=Europe/Rome:20230630T173000
DTEND;TZID=Europe/Rome:20230630T183000
DTSTAMP:20260424T171743
CREATED:20230725T090737Z
LAST-MODIFIED:20230725T091541Z
UID:7045-1688146200-1688149800@lucreziadifrancesco.com
SUMMARY:Io Sono come un Albero
DESCRIPTION:LABORATORIO DI ARTETERAPIA E MUSICATERAPIA:\n“Io Sono come un Albero”\nVenerdì 30 Giugno\, presso la Pineta di Silvi Marina\, in collaborazione con Leyla Leyla\, operatrice olistica\, terrò un laboratorio di Arteterapia dedicato all’albero.\nLeyla accompagnerà con il suono delle sue campane la nostra meditazione  dinamica.\nInterpreteremo con il nostro corpo\, il nostro albero interiore e poi riporteremo su carta quello che abbiamo vissuto.\nDA PORTARE PER POTER SVOLGERE IL LABORATORIO:\n– Tappetino o telo mare;\n– Taccuino (Facoltativo);\n– Colori (Facoltativo).\nCONSIGLI\n-Abbigliamento comodo\n– Gioia e l’entusiasmo di partecipare\nPER CHI E’ ADATTO?\nPer tutte le persone che vogliono cimentarsi in una nuova esperienza.\nNon è richiesto nessuna preparazione in ambito artistico. \nI corsi sul Simbolismo e di Arteterapia sono tenuti dalla Maestra d’ Arte Lucrezia Di Francesco.
URL:https://lucreziadifrancesco.com/event/io-sono-come-un-albero/
LOCATION:Pineta Silvi Marina\, via forcella\, silvi marina\, Italia
CATEGORIES:Eventi Le Ali della Vita
ATTACH;FMTTYPE=image/jpeg:https://lucreziadifrancesco.com/wp-content/uploads/2023/07/io_sono_come_un_albero.jpg
END:VEVENT
END:VCALENDAR