BEGIN:VCALENDAR
VERSION:2.0
PRODID:-//&quot;LE ALI DELLA VITA&quot; DI LUCREZIA DI FRANCESCO - ECPv6.15.18//NONSGML v1.0//EN
CALSCALE:GREGORIAN
METHOD:PUBLISH
X-ORIGINAL-URL:https://lucreziadifrancesco.com
X-WR-CALDESC:Eventi per &quot;LE ALI DELLA VITA&quot; DI LUCREZIA DI FRANCESCO
REFRESH-INTERVAL;VALUE=DURATION:PT1H
X-Robots-Tag:noindex
X-PUBLISHED-TTL:PT1H
BEGIN:VTIMEZONE
TZID:Europe/Rome
BEGIN:DAYLIGHT
TZOFFSETFROM:+0100
TZOFFSETTO:+0200
TZNAME:CEST
DTSTART:20220327T010000
END:DAYLIGHT
BEGIN:STANDARD
TZOFFSETFROM:+0200
TZOFFSETTO:+0100
TZNAME:CET
DTSTART:20221030T010000
END:STANDARD
BEGIN:DAYLIGHT
TZOFFSETFROM:+0100
TZOFFSETTO:+0200
TZNAME:CEST
DTSTART:20230326T010000
END:DAYLIGHT
BEGIN:STANDARD
TZOFFSETFROM:+0200
TZOFFSETTO:+0100
TZNAME:CET
DTSTART:20231029T010000
END:STANDARD
BEGIN:DAYLIGHT
TZOFFSETFROM:+0100
TZOFFSETTO:+0200
TZNAME:CEST
DTSTART:20240331T010000
END:DAYLIGHT
BEGIN:STANDARD
TZOFFSETFROM:+0200
TZOFFSETTO:+0100
TZNAME:CET
DTSTART:20241027T010000
END:STANDARD
END:VTIMEZONE
BEGIN:VEVENT
DTSTART;TZID=Europe/Rome:20231228T173000
DTEND;TZID=Europe/Rome:20231228T183000
DTSTAMP:20260424T103234
CREATED:20231221T152108Z
LAST-MODIFIED:20231221T154337Z
UID:8048-1703784600-1703788200@lucreziadifrancesco.com
SUMMARY:Laboratorio interattivo adulti
DESCRIPTION:Laboratorio interattivo riservato agli adulti
URL:https://lucreziadifrancesco.com/event/laboratorio-interattivo/
CATEGORIES:Eventi Le Ali della Vita
ATTACH;FMTTYPE=image/jpeg:https://lucreziadifrancesco.com/wp-content/uploads/2023/12/esercitazione_adulti-scaled.jpg
END:VEVENT
BEGIN:VEVENT
DTSTART;TZID=Europe/Rome:20231228T173000
DTEND;TZID=Europe/Rome:20231228T183000
DTSTAMP:20260424T103234
CREATED:20231221T153456Z
LAST-MODIFIED:20231221T154400Z
UID:8060-1703784600-1703788200@lucreziadifrancesco.com
SUMMARY:Laboratorio interattivo ragazzi
DESCRIPTION:Laboratorio interattivo riservato ai ragazzi
URL:https://lucreziadifrancesco.com/event/laboratorio-interattivo-2/
CATEGORIES:Eventi Le Ali della Vita
ATTACH;FMTTYPE=image/jpeg:https://lucreziadifrancesco.com/wp-content/uploads/2023/12/junior-scaled.jpg
END:VEVENT
END:VCALENDAR