BEGIN:VCALENDAR
VERSION:2.0
PRODID:-//&quot;LE ALI DELLA VITA&quot; DI LUCREZIA DI FRANCESCO - ECPv6.15.18//NONSGML v1.0//EN
CALSCALE:GREGORIAN
METHOD:PUBLISH
X-ORIGINAL-URL:https://lucreziadifrancesco.com
X-WR-CALDESC:Eventi per &quot;LE ALI DELLA VITA&quot; DI LUCREZIA DI FRANCESCO
REFRESH-INTERVAL;VALUE=DURATION:PT1H
X-Robots-Tag:noindex
X-PUBLISHED-TTL:PT1H
BEGIN:VTIMEZONE
TZID:Europe/Rome
BEGIN:DAYLIGHT
TZOFFSETFROM:+0100
TZOFFSETTO:+0200
TZNAME:CEST
DTSTART:20230326T010000
END:DAYLIGHT
BEGIN:STANDARD
TZOFFSETFROM:+0200
TZOFFSETTO:+0100
TZNAME:CET
DTSTART:20231029T010000
END:STANDARD
BEGIN:DAYLIGHT
TZOFFSETFROM:+0100
TZOFFSETTO:+0200
TZNAME:CEST
DTSTART:20240331T010000
END:DAYLIGHT
BEGIN:STANDARD
TZOFFSETFROM:+0200
TZOFFSETTO:+0100
TZNAME:CET
DTSTART:20241027T010000
END:STANDARD
BEGIN:DAYLIGHT
TZOFFSETFROM:+0100
TZOFFSETTO:+0200
TZNAME:CEST
DTSTART:20250330T010000
END:DAYLIGHT
BEGIN:STANDARD
TZOFFSETFROM:+0200
TZOFFSETTO:+0100
TZNAME:CET
DTSTART:20251026T010000
END:STANDARD
END:VTIMEZONE
BEGIN:VEVENT
DTSTART;VALUE=DATE:20240629
DTEND;VALUE=DATE:20240706
DTSTAMP:20260424T014926
CREATED:20240629T172406Z
LAST-MODIFIED:20240629T172406Z
UID:8794-1719619200-1720223999@lucreziadifrancesco.com
SUMMARY:La Bellezza nella sua Completezza
DESCRIPTION:LA GRANDE MADRE\nLa Bellezza nella Sua Completezza \nDal 29 Giugno al 5 Luglio onoreremo\, nuovamente\, la Grande Madre nella sua duplice forma\, maschio e femmina insieme. Vi aspettiamo a Villa Filiani a Pineto (Te).\nCon la partecipazione di Angelica Artist \nSabato 29 Giugno\nOre 20:00: Vernissage Mostra;\nOre 21:00: Presentazione della Grande Madre – La Bellezza nella sua Completezza con Le Ali della Vita della Maestra d ‘Arte Lucrezia Di Francesco;\nOre 23:30: Chiusura Mostra. \nDomenica 30 Giugno\nOre 19:00: Apertura Mostra\nOre 21:30: Laila Lanzone Leyla Leyla (Operatrice Olistica) – ISIDANCE La Danza Sacra;\nOre 23:30: Chiusura Mostra. \nLunedì 1 Luglio\nOre 19:00: Apertura Mostra;\nOre 21:00: Annamaria Acunzo -Benessere Naturale (Master Reiki e Docente) – Riflessologia tra oriente e occidente;\nOre 22:00: Valentina Bogi e Valeria Amato Bottega dell’Essere (Operatrici Olistiche) – Riconnessione all’Energia Creatrice;\nOre 23:30: Chiusura Mostra. \nMartedì 2 Luglio\nOre 19:00: Apertura Mostra;\nOre 21:00: Francesca Cichella (Naturopata e Riflessologa) – Esercizio guidato per rilascio\nemozionale oli essenziali e fiori di Bach;\nOre 23:30: Chiusura Mostra. \nMercoledì 3 Luglio\nOre 19:00: Apertura Mostra\nOre 21:00: Cinzia Angela Seddone Naturopata fiori e radici Cinzia Angela Seddone (Naturopata Equantica e Facilitatrice in Costellazioni Familiari)\n– Liberare se stessi dalle dinamiche ereditate dall’inconscio familiare;\nOre 23:30: Chiusura Mostra.
URL:https://lucreziadifrancesco.com/event/la-bellezza-nella-sua-completezza-2/
LOCATION:Villa Filiani\, Via Gabriele D'Annunzio\, 175\, Pineto\, 64025\, Italia
CATEGORIES:Eventi Le Ali della Vita
ATTACH;FMTTYPE=image/jpeg:https://lucreziadifrancesco.com/wp-content/uploads/2024/06/anteprima-evento-la-grande-madre.jpg
END:VEVENT
END:VCALENDAR