BEGIN:VCALENDAR
VERSION:2.0
PRODID:-//&quot;LE ALI DELLA VITA&quot; DI LUCREZIA DI FRANCESCO - ECPv6.15.18//NONSGML v1.0//EN
CALSCALE:GREGORIAN
METHOD:PUBLISH
X-WR-CALNAME:&quot;LE ALI DELLA VITA&quot; DI LUCREZIA DI FRANCESCO
X-ORIGINAL-URL:https://lucreziadifrancesco.com
X-WR-CALDESC:Eventi per &quot;LE ALI DELLA VITA&quot; DI LUCREZIA DI FRANCESCO
REFRESH-INTERVAL;VALUE=DURATION:PT1H
X-Robots-Tag:noindex
X-PUBLISHED-TTL:PT1H
BEGIN:VTIMEZONE
TZID:Europe/Rome
BEGIN:DAYLIGHT
TZOFFSETFROM:+0100
TZOFFSETTO:+0200
TZNAME:CEST
DTSTART:20230326T010000
END:DAYLIGHT
BEGIN:STANDARD
TZOFFSETFROM:+0200
TZOFFSETTO:+0100
TZNAME:CET
DTSTART:20231029T010000
END:STANDARD
BEGIN:DAYLIGHT
TZOFFSETFROM:+0100
TZOFFSETTO:+0200
TZNAME:CEST
DTSTART:20240331T010000
END:DAYLIGHT
BEGIN:STANDARD
TZOFFSETFROM:+0200
TZOFFSETTO:+0100
TZNAME:CET
DTSTART:20241027T010000
END:STANDARD
BEGIN:DAYLIGHT
TZOFFSETFROM:+0100
TZOFFSETTO:+0200
TZNAME:CEST
DTSTART:20250330T010000
END:DAYLIGHT
BEGIN:STANDARD
TZOFFSETFROM:+0200
TZOFFSETTO:+0100
TZNAME:CET
DTSTART:20251026T010000
END:STANDARD
END:VTIMEZONE
BEGIN:VEVENT
DTSTART;TZID=Europe/Rome:20240731T213000
DTEND;TZID=Europe/Rome:20240731T233000
DTSTAMP:20260424T002933
CREATED:20240730T074752Z
LAST-MODIFIED:20240730T172011Z
UID:8810-1722461400-1722468600@lucreziadifrancesco.com
SUMMARY:Francavilla Urban Festival 2024
DESCRIPTION:  \nFRANCAVILLA URBAN FESTIVAL 2024 \nThaumazein Festival Internazionale delle Emozioni \nArte- Musica -Letteratura – Teatro – Terza Edizione \nIdeazione e direzione artistica Massimo Pasqualone \nMercoledì 31 Luglio\, dopo il gradito invito del Prof. Massimo Pasqualone\, la mia scuola parteciperà alla manifestazione Francavilla Urban Festival 2024 – \nThaumazein Festival Internazionale delle Emozioni. \nPer l’occasione alcuni dei miei allievi\, grandi e piccini\, hanno realizzato delle opere pittoriche nate da una meditazione sulle emozioni e sulla vibrazione del colore. \nA partecipare sono: \nCorso Adulti \n\nMoira Di Febo;\nGenny Di Loreto;\nTiziana Michelucci;\nSulamita Primiero;\nSonia Palladini;\nMaria Pacchione.\n\nCorso Ragazzi \n\nNoemi Valleriani;\nVanessa Bartoletti;\nGioia Alessi;\nAlysia Costantini;\nDavide Adwar.\n\n  \nVi Aspettiamo Numerosi. \n  \nPer info 3276912708
URL:https://lucreziadifrancesco.com/event/francavilla-urban-festival-2024/
LOCATION:Giardinetto di Via Zara\, viale nettuno\, francavilla al mare\, Italia
CATEGORIES:Eventi Le Ali della Vita
ATTACH;FMTTYPE=image/png:https://lucreziadifrancesco.com/wp-content/uploads/2024/07/COPERTINA-31.png
END:VEVENT
END:VCALENDAR