BEGIN:VCALENDAR
VERSION:2.0
PRODID:-//&quot;LE ALI DELLA VITA&quot; DI LUCREZIA DI FRANCESCO - ECPv6.15.18//NONSGML v1.0//EN
CALSCALE:GREGORIAN
METHOD:PUBLISH
X-ORIGINAL-URL:https://lucreziadifrancesco.com
X-WR-CALDESC:Eventi per &quot;LE ALI DELLA VITA&quot; DI LUCREZIA DI FRANCESCO
REFRESH-INTERVAL;VALUE=DURATION:PT1H
X-Robots-Tag:noindex
X-PUBLISHED-TTL:PT1H
BEGIN:VTIMEZONE
TZID:Europe/Rome
BEGIN:DAYLIGHT
TZOFFSETFROM:+0100
TZOFFSETTO:+0200
TZNAME:CEST
DTSTART:20230326T010000
END:DAYLIGHT
BEGIN:STANDARD
TZOFFSETFROM:+0200
TZOFFSETTO:+0100
TZNAME:CET
DTSTART:20231029T010000
END:STANDARD
BEGIN:DAYLIGHT
TZOFFSETFROM:+0100
TZOFFSETTO:+0200
TZNAME:CEST
DTSTART:20240331T010000
END:DAYLIGHT
BEGIN:STANDARD
TZOFFSETFROM:+0200
TZOFFSETTO:+0100
TZNAME:CET
DTSTART:20241027T010000
END:STANDARD
BEGIN:DAYLIGHT
TZOFFSETFROM:+0100
TZOFFSETTO:+0200
TZNAME:CEST
DTSTART:20250330T010000
END:DAYLIGHT
BEGIN:STANDARD
TZOFFSETFROM:+0200
TZOFFSETTO:+0100
TZNAME:CET
DTSTART:20251026T010000
END:STANDARD
END:VTIMEZONE
BEGIN:VEVENT
DTSTART;TZID=Europe/Rome:20240918T203000
DTEND;TZID=Europe/Rome:20240918T213000
DTSTAMP:20260424T004548
CREATED:20240909T150004Z
LAST-MODIFIED:20240909T151528Z
UID:9391-1726691400-1726695000@lucreziadifrancesco.com
SUMMARY:Le Fiabe – Il Viaggio è già dentro di te
DESCRIPTION:Percorso Formativo 2024/2025 \nArteterapia\, Simbolismo e Crescita Personale \nDopo un lungo anno dedicato alla Grande Madre\, a settembre varcheremo le porte del regno delle Fiabe dove scopriremo il viaggio della nostra anima dal momento in cui ha deciso di incarnarsi nel corpo fisico. In questo viaggio analizzeremo gli archetipi dell’Anima e dell’Animus presenti in ogni storia. \nL’Anima costituisce l’archetipo della femminilità che si lega principalmente agli stati d’animo e alle emozioni\, come la capacità di amare\, l’istinto naturale\, la propensione alla relazione e il naturale rapporto con l’inconscio che le conferisce funzione di “guida”\, funzione senza la quale non sarebbe possibile accedere agli strati più profondi dell’inconscio collettivo. \nAnimus è l’archetipo maschile\, caratterizzato da tutte quelle qualità legate al logos: conoscenza\, giudizio\, ragione\, intelletto e aderendo alla natura del logos pone l’accento sul conoscere e in particolar modo sul capire. \nL’ Anima viene sempre rappresentata come una dolce fanciulla\, una dea\, una strega\, un angelo\, un demonio\, una prostituta\, un mendicante. In forme non umane come gatto\, vacca\, tigre\, nave o caverna. \nMentre l’ Animus può apparire come eroe\, poeta\, grande oratore\, vecchio saggio\, sacerdote\, in forme mitologiche e fiabesche come Dioniso\, Barbablù o il pifferaio magico oppure in forme non umane come aquila\, toro\, leone\, Lancia\, torre o qualunque elemento fallico. \nJung diceva a riguardo: \n“L’Animus e l’Anima dovrebbero funzionare da ponte o da porta alle immagini dell’inconscio collettivo\, come la “persona” rappresenta una specie di porta verso il mondo”. \nSei pronto a intraprendere questo meraviglioso percorso di crescita e consapevolezza? \nLa prima fiaba su cui si lavorerà è “Cappuccetto Rosso \, il viaggio dell’Anima”. I primi incontri saranno su Discord mercoledì 11\, 18 e 25 alle 20:30. \nPuoi scegliere se intraprendere solo un percorso teorico o quello Pratico/teorico insieme con tutti corsi di pittura e scultura consapevole. \nPer avere maggiori informazioni\, presenterò il mio corso Giovedì 5 Settembre alle ore 20:30 sulla piattaforma Discord. \nPrenota il tuo posto al 327 691 2708
URL:https://lucreziadifrancesco.com/event/le-fiabe-il-viaggio-e-gia-dentro-di-te-2/
LOCATION:Discord
CATEGORIES:Eventi Le Ali della Vita
ATTACH;FMTTYPE=image/jpeg:https://lucreziadifrancesco.com/wp-content/uploads/2024/09/CAPPUCCCETTO-ROSSO-COPERTINA.jpeg
END:VEVENT
END:VCALENDAR