BEGIN:VCALENDAR
VERSION:2.0
PRODID:-//&quot;LE ALI DELLA VITA&quot; DI LUCREZIA DI FRANCESCO - ECPv6.15.18//NONSGML v1.0//EN
CALSCALE:GREGORIAN
METHOD:PUBLISH
X-WR-CALNAME:&quot;LE ALI DELLA VITA&quot; DI LUCREZIA DI FRANCESCO
X-ORIGINAL-URL:https://lucreziadifrancesco.com
X-WR-CALDESC:Eventi per &quot;LE ALI DELLA VITA&quot; DI LUCREZIA DI FRANCESCO
REFRESH-INTERVAL;VALUE=DURATION:PT1H
X-Robots-Tag:noindex
X-PUBLISHED-TTL:PT1H
BEGIN:VTIMEZONE
TZID:Europe/Rome
BEGIN:DAYLIGHT
TZOFFSETFROM:+0100
TZOFFSETTO:+0200
TZNAME:CEST
DTSTART:20230326T010000
END:DAYLIGHT
BEGIN:STANDARD
TZOFFSETFROM:+0200
TZOFFSETTO:+0100
TZNAME:CET
DTSTART:20231029T010000
END:STANDARD
BEGIN:DAYLIGHT
TZOFFSETFROM:+0100
TZOFFSETTO:+0200
TZNAME:CEST
DTSTART:20240331T010000
END:DAYLIGHT
BEGIN:STANDARD
TZOFFSETFROM:+0200
TZOFFSETTO:+0100
TZNAME:CET
DTSTART:20241027T010000
END:STANDARD
BEGIN:DAYLIGHT
TZOFFSETFROM:+0100
TZOFFSETTO:+0200
TZNAME:CEST
DTSTART:20250330T010000
END:DAYLIGHT
BEGIN:STANDARD
TZOFFSETFROM:+0200
TZOFFSETTO:+0100
TZNAME:CET
DTSTART:20251026T010000
END:STANDARD
END:VTIMEZONE
BEGIN:VEVENT
DTSTART;TZID=Europe/Rome:20241106T210000
DTEND;TZID=Europe/Rome:20241106T220000
DTSTAMP:20260423T165935
CREATED:20240909T152124Z
LAST-MODIFIED:20241016T094155Z
UID:9402-1730926800-1730930400@lucreziadifrancesco.com
SUMMARY:Biancaneve
DESCRIPTION:BIANCANEVE\nLa Volontà dell’Anima\n“Vorrei avere un giorno una bambina dai lunghi capelli neri come legno d’ebano\, le guance colorate come gocce di sangue e la pelle bianca come la neve”.\n(La Regina -Mamma di Biancaneve)\nDietro la Volontà della Regina sono nascosti tutti gli insegnamenti ancestrali tramandati per secoli.\nLi vuoi Conoscere?\nScrivimi al 3276912708
URL:https://lucreziadifrancesco.com/event/biancaneve/
LOCATION:Discord
CATEGORIES:Eventi Le Ali della Vita
ATTACH;FMTTYPE=image/jpeg:https://lucreziadifrancesco.com/wp-content/uploads/2024/09/BIANCANEVE-COPERTINA.jpeg
END:VEVENT
END:VCALENDAR