BEGIN:VCALENDAR
VERSION:2.0
PRODID:-//&quot;LE ALI DELLA VITA&quot; DI LUCREZIA DI FRANCESCO - ECPv6.15.18//NONSGML v1.0//EN
CALSCALE:GREGORIAN
METHOD:PUBLISH
X-ORIGINAL-URL:https://lucreziadifrancesco.com
X-WR-CALDESC:Eventi per &quot;LE ALI DELLA VITA&quot; DI LUCREZIA DI FRANCESCO
REFRESH-INTERVAL;VALUE=DURATION:PT1H
X-Robots-Tag:noindex
X-PUBLISHED-TTL:PT1H
BEGIN:VTIMEZONE
TZID:Europe/Rome
BEGIN:DAYLIGHT
TZOFFSETFROM:+0100
TZOFFSETTO:+0200
TZNAME:CEST
DTSTART:20250330T010000
END:DAYLIGHT
BEGIN:STANDARD
TZOFFSETFROM:+0200
TZOFFSETTO:+0100
TZNAME:CET
DTSTART:20251026T010000
END:STANDARD
BEGIN:DAYLIGHT
TZOFFSETFROM:+0100
TZOFFSETTO:+0200
TZNAME:CEST
DTSTART:20260329T010000
END:DAYLIGHT
BEGIN:STANDARD
TZOFFSETFROM:+0200
TZOFFSETTO:+0100
TZNAME:CET
DTSTART:20261025T010000
END:STANDARD
BEGIN:DAYLIGHT
TZOFFSETFROM:+0100
TZOFFSETTO:+0200
TZNAME:CEST
DTSTART:20270328T010000
END:DAYLIGHT
BEGIN:STANDARD
TZOFFSETFROM:+0200
TZOFFSETTO:+0100
TZNAME:CET
DTSTART:20271031T010000
END:STANDARD
END:VTIMEZONE
BEGIN:VEVENT
DTSTART;VALUE=DATE:20260701
DTEND;VALUE=DATE:20260812
DTSTAMP:20260420T222553
CREATED:20260402T084344Z
LAST-MODIFIED:20260402T084933Z
UID:10512-1782864000-1786492799@lucreziadifrancesco.com
SUMMARY:L'Avventura Inizia Qui
DESCRIPTION:L’AVVENTURA INIZIA QUI \nCome Alice\, tuo figlio cadrà nella tana del coniglio… \nMa stavolta il Paese delle Meraviglie è dentro di lui. Sette settimane per esplorare emozioni\, colori e parti del sé attraverso l’arte e la narrazione. Ogni mercoledì\, un personaggio di Alice – il Bianconiglio\, la Regina di Cuori\, lo Stregatto –  guiderà i ragazzi nell’esplorazione di un’emozione e di una parte del corpo. \nSettimana dopo settimana\, dipingeranno una grande tela che racconta la loro storia unica. Alla fine del percorso\, porteranno a casa un’opera d’arte che è anche una mappa del loro mondo interiore. \n  \nI SETTE REGNI DEL PAESE DELLE MERAVIGLIE \nTAPPA I · ROSSO – La Caduta nella Tana Con il Bianconiglio Le radici\, la sicurezza\, dove mi sento al sicuro. Il primo passo nel viaggio dentro sé. \nTAPPA II · ARANCIONE – Il Mare delle Lacrime Alice che cambia Le emozioni fluide\, la gioia e la tristezza\, il cambiamento. Come l’acqua che non ha forma fissa. \nTAPPA III · GIALLO – La Regina di Cuori Il palazzo del potere La rabbia\, la forza interiore\, imparare a dire NO. Il potere vissuto con consapevolezza. \nTAPPA IV · VERDE – Il Giardino delle Rose Con i Giardinieri L’amore\, il cuore\, cosa custodisco dentro di me. Tutto ciò che coloriamo con le nostre mani. \nTAPPA V · AZZURRO – Il Brucaliffo “Chi sei TU?” La voce\, la verità\, dire chi sono. L’arte come linguaggio per raccontarsi al mondo. \nTAPPA VI · INDACO –  Lo Stregatto Il bosco degli enigmi L’intuizione\, i sogni\, vedere dentro di me. Quel sorriso che rimane anche quando tutto svanisce. \nTAPPA VII · VIOLA –  Il Risveglio · Oltre lo Specchio L’integrazione finale Scoprire che tutti i personaggi erano parti di sé. L’opera d’arte completata racconta chi sono davvero. \n  \nCOME FUNZIONA OGNI INCONTRO \nStruttura dell’incontro: \n✦ Meditazione guidata immaginativa \n✦ Narrazione originale del personaggio Alice \n✦ Esplorazione corporea: “Dove senti questa emozione?” \n✦ Creazione artistica \n✦ Condivisione in cerchio finale \nCalendario e info pratiche: \n✦ 7 incontri · ogni mercoledì ore 15:00–17:00 \n✦ Dal 1 luglio all’11 agosto 2026 \n✦ Gruppo: minimo 6\, massimo 12 ragazzi \n✦ Tutti i materiali artistici inclusi \n  \nTUTTO INCLUSO NEL PERCORSO \n\nMateriale\nAttestato di partecipazione\nDocumentazione fotografica del percorso\nAccesso (facoltativo) alla mostra finale “Oltre lo Specchio”\n\n  \nINVESTIMENTO \n✦ EARLY BIRD: €70 – entro il 20 giugno 2026 \n✦ Prezzo pieno: €90 – dopo il 20 giugno 2026 \nIscriviti entro il 20 giugno 2025 e risparmi €20. \nPosti disponibili: 12 totali · Iscrizioni fino al 25 giugno2026 \n  \nDOMANDE FREQUENTI \nMio figlio non conosce la storia di Alice. Può partecipare? Assolutamente sì! Raccontiamo la storia settimana per settimana\, in modo adatto all’età. Anche chi non ha mai letto il libro o visto il film può partecipare tranquillamente. \nMio figlio non sa disegnare. Può partecipare? Certamente! Non è un corso di tecnica pittorica. Qui non esistono “bravo” o “non bravo”: esiste solo espressione autentica. Ogni bambino dipinge il SUO Paese delle Meraviglie interiore. \nMio figlio è timido/introverso. Si sentirà a disagio? Al contrario! Spesso i bambini introversi trovano nell’arte il loro canale espressivo preferito. Non serve parlare tanto: si può comunicare attraverso i colori. Le condivisioni sono sempre facoltative\, mai forzate. \nÈ adatto anche ai maschi? Certamente! Alice è un viaggio universale dentro se stessi. I personaggi che incontriamo parlano a tutti\, indipendentemente dal genere. \nCosa succede se mio figlio salta un incontro? Consigliamo la continuità\, ma se capita un’assenza possiamo recuperare con una sessione breve (30 min) prima dell’incontro successivo per completare la fascia mancante. \nHa a che fare con religione o spiritualità? No. È un percorso di educazione emotiva e creativa basato su psicologia dell’arte\, pedagogia e neuroscienze. Alice nel Paese delle Meraviglie è una storia universale\, adatta a famiglie di qualsiasi orientamento culturale. \n  \nCTA FINALE \n✦ Solo 12 posti disponibili ✦ \nRegala a tuo figlio il suo Paese delle Meraviglie \nSette settimane per scoprire il coraggio nelle gambe\, la gioia nella pancia\, l’amore nel cuore\, i sogni nella testa. E portare a casa un’opera che racconta chi è davvero. \n“Non era un sogno. Era tutto vero. Ero io.” — Alice \n  \nCONTATTI \nLe Ali della Vita ·di Lucrezia Di Francesco \nMaestra d’Arte – Arteterapeuta – Costellatrice Familiare ·- Creatrice Metodo ArKa \nVia Abruzzo 123\, Silvi Marina \n(TE) 327.6912708 · \ninfo.lealidellavita23@gmail.com \nSCARICA LA BROCHURE CON TUTTE LE INFORMAZIONI\nPer iscriverti: \nCLICCA QUI\n  \n  \n\n 
URL:https://lucreziadifrancesco.com/event/lavventura-inizia-qui/
LOCATION:Laboratorio della Maestra Lucrezia Di Francesco\, Via Abruzzo 123\, Silvi\, Teramo\, 64029\, Italia
CATEGORIES:Eventi Le Ali della Vita
ATTACH;FMTTYPE=image/jpeg:https://lucreziadifrancesco.com/wp-content/uploads/2026/04/ALICE-E-I-SETTE-REGNI-DEL-CORPO.jpg
END:VEVENT
END:VCALENDAR