BEGIN:VCALENDAR
VERSION:2.0
PRODID:-//&quot;LE ALI DELLA VITA&quot; DI LUCREZIA DI FRANCESCO - ECPv6.15.18//NONSGML v1.0//EN
CALSCALE:GREGORIAN
METHOD:PUBLISH
X-WR-CALNAME:&quot;LE ALI DELLA VITA&quot; DI LUCREZIA DI FRANCESCO
X-ORIGINAL-URL:https://lucreziadifrancesco.com
X-WR-CALDESC:Eventi per &quot;LE ALI DELLA VITA&quot; DI LUCREZIA DI FRANCESCO
REFRESH-INTERVAL;VALUE=DURATION:PT1H
X-Robots-Tag:noindex
X-PUBLISHED-TTL:PT1H
BEGIN:VTIMEZONE
TZID:Europe/Rome
BEGIN:DAYLIGHT
TZOFFSETFROM:+0100
TZOFFSETTO:+0200
TZNAME:CEST
DTSTART:20250330T010000
END:DAYLIGHT
BEGIN:STANDARD
TZOFFSETFROM:+0200
TZOFFSETTO:+0100
TZNAME:CET
DTSTART:20251026T010000
END:STANDARD
BEGIN:DAYLIGHT
TZOFFSETFROM:+0100
TZOFFSETTO:+0200
TZNAME:CEST
DTSTART:20260329T010000
END:DAYLIGHT
BEGIN:STANDARD
TZOFFSETFROM:+0200
TZOFFSETTO:+0100
TZNAME:CET
DTSTART:20261025T010000
END:STANDARD
BEGIN:DAYLIGHT
TZOFFSETFROM:+0100
TZOFFSETTO:+0200
TZNAME:CEST
DTSTART:20270328T010000
END:DAYLIGHT
BEGIN:STANDARD
TZOFFSETFROM:+0200
TZOFFSETTO:+0100
TZNAME:CET
DTSTART:20271031T010000
END:STANDARD
END:VTIMEZONE
BEGIN:VEVENT
DTSTART;TZID=Europe/Rome:20260826T210000
DTEND;TZID=Europe/Rome:20260826T233000
DTSTAMP:20260420T232056
CREATED:20260402T084706Z
LAST-MODIFIED:20260402T090139Z
UID:10527-1787778000-1787787000@lucreziadifrancesco.com
SUMMARY:Thaumazein 2026
DESCRIPTION:Festival Internazionale delle Emozioni 26 agosto 2026 – ore 21:00 | Giardinetto\, via Zara – Francavilla al Mare \nSiamo felici di annunciare la nostra partecipazione al Thaumazein 2026 – Festival Internazionale delle Emozioni\, un evento unico dedicato all’arte\, alla bellezza e alla profondità dell’esperienza umana. \nIl festival\, ideato dal prof. Massimo Pasqualone e promosso dalle associazioni Alento e IndiDestinazionearte\, nasce per dare spazio alle emozioni\, trasformandole in espressione artistica attraverso performance\, incontri e momenti di riflessione condivisa. \nUn’occasione speciale \nIl 26 agosto alle ore 21:00\, gli allievi della scuola Le Ali della Vita saranno ancora una volta protagonisti di un momento straordinario. Quest’anno portiamo con noi le opere nate dal percorso Oltre lo Specchio – un viaggio dentro l’anima attraverso gli archetipi di Alice\, tra sogno\, trasformazione e consapevolezza. \nLavori che raccontano storie vere. Emozioni che hanno preso forma\, colore\, profondità. \nThaumazein non è solo un evento. È un invito a fermarsi. A sentire. A lasciarsi toccare dall’autenticità. \nIn un mondo che corre veloce\, Thaumazein 2026 ci chiede di rallentare\, di ascoltare il cuore\, di accogliere la bellezza che nasce quando l’arte incontra la vita interiore. \nVi aspettiamo a braccia aperte. Per emozionarci insieme. Perché c’è un luogo dove le emozioni diventano arte. E quel luogo è qui.
URL:https://lucreziadifrancesco.com/event/thaumazein-2026/
LOCATION:Giardinetto di Via Zara\, viale nettuno\, francavilla al mare\, Italia
CATEGORIES:Eventi Le Ali della Vita
ATTACH;FMTTYPE=image/jpeg:https://lucreziadifrancesco.com/wp-content/uploads/2026/04/Thaumazein-2026-.jpg
END:VEVENT
END:VCALENDAR